BEGIN:VCALENDAR
VERSION:2.0
PRODID:-//UNIVERSITY OF TEXAS SCHOOL OF LAW//NONSGML Events Calendar v1.0//EN
X-WR-TIMEZONE:America/Chicago
BEGIN:VTIMEZONE
TZID:US/Central
X-LIC-LOCATION:America/Chicago
BEGIN:DAYLIGHT
TZOFFSETFROM:-0600
TZOFFSETTO:-0500
TZNAME:CDT
DTSTART:19700308T020000
RRULE:FREQ=YEARLY;BYMONTH=3;BYDAY=2SU
END:DAYLIGHT
BEGIN:STANDARD
TZOFFSETFROM:-0500
TZOFFSETTO:-0600
TZNAME:CST
DTSTART:19701101T020000
RRULE:FREQ=YEARLY;BYMONTH=11;BYDAY=1SU
END:STANDARD
END:VTIMEZONE
BEGIN:VEVENT
DTSTART;TZID=US/Central:20211115T120000
DTEND;VALUE=DATE-TIME;TZID=US/Central:20211115T130000

DTSTAMP:20260419T160800Z
CREATED:20211108T144400Z
LAST-MODIFIED:20211108T144400Z
UID:20211115T120000-64985@law.utexas.edu
SUMMARY:How to Think: Defenses
DESCRIPTION:<p>Join FGLS in listening to Ali Gallagher, UT Law alumn and first-generation lawyer, discuss how humans think and learn! Engage with Ali to discuss how we use certain defense mechanisms in different situations and how this applies to law school, the workplace, and life overall. </p>
  <p>Lunch will be provided afterward. </p>\n\nIf you need an accommodation to participate in this event, please contact the event sponsor or the Texas Law Special Events Office at specialevents@law.utexas.edu no later than seven business days prior to the event.
X-ALT-DESC;FMTTYPE=text/html:<p>Join FGLS in listening to Ali Gallagher, UT Law alumn and first-generation lawyer, discuss how humans think and learn! Engage with Ali to discuss how we use certain defense mechanisms in different situations and how this applies to law school, the workplace, and life overall. </p>
  <p>Lunch will be provided afterward. </p><p>If you need an accommodation to participate in this event, please contact the event
                                          event sponsor or the Texas Law Special Events Office at <a href="mailto:specialevents@law.utexas.edu">specialevents@law.utexas.edu</a> no later than seven business days prior to the event.</p>
CATEGORIES:Panel Discussion / Speaker Series
LOCATION:TNH 3.129 - Atlas Seminar Room
URL:http://law.utexas.edu/calendar/2021/11/15/64985/
CLASS:PUBLIC
STATUS:CONFIRMED

END:VEVENT
END:VCALENDAR