BEGIN:VCALENDAR
VERSION:2.0
PRODID:-//UNIVERSITY OF TEXAS SCHOOL OF LAW//NONSGML Events Calendar v1.0//EN
X-WR-TIMEZONE:America/Chicago
BEGIN:VTIMEZONE
TZID:US/Central
X-LIC-LOCATION:America/Chicago
BEGIN:DAYLIGHT
TZOFFSETFROM:-0600
TZOFFSETTO:-0500
TZNAME:CDT
DTSTART:19700308T020000
RRULE:FREQ=YEARLY;BYMONTH=3;BYDAY=2SU
END:DAYLIGHT
BEGIN:STANDARD
TZOFFSETFROM:-0500
TZOFFSETTO:-0600
TZNAME:CST
DTSTART:19701101T020000
RRULE:FREQ=YEARLY;BYMONTH=11;BYDAY=1SU
END:STANDARD
END:VTIMEZONE
BEGIN:VEVENT
DTSTART;TZID=US/Central:20220406T120000
DTEND;VALUE=DATE-TIME;TZID=US/Central:20220406T130000

DTSTAMP:20260419T170200Z
CREATED:20220302T190400Z
LAST-MODIFIED:20220330T134200Z
UID:20220406T120000-67089@law.utexas.edu
SUMMARY:Conversation with Rosann Mariappuram
DESCRIPTION:<p>Rosann Mariappuram is Executive Director of Jane’s Due Process, a nonprofit that ensures legal representation for pregnant minors in Texas. Immediately after graduating from law school, she was an If/When/How Reproductive Justice Fellow with Surge Reproductive Justice and Legal Voice in Seattle. Read more about Rosann here: <a href="https://law.utexas.edu/publicinterest/directory/rosann-mariappuram/">https://law.utexas.edu/publicinterest/directory/rosann-mariappuram/</a></p>
  <p>Please RSVP for Zoom link: <a href="https://utexas.zoom.us/meeting/register/tJ0rd-iuqTkuGt1xeD-UfDiZmt7pSihLI4QH">https://utexas.zoom.us/meeting/register/tJ0rd-iuqTkuGt1xeD-UfDiZmt7pSihLI4QH</a></p>\n\nIf you need an accommodation to participate in this event, please contact the event sponsor or the Texas Law Special Events Office at specialevents@law.utexas.edu no later than seven business days prior to the event.
X-ALT-DESC;FMTTYPE=text/html:<p>Rosann Mariappuram is Executive Director of Jane’s Due Process, a nonprofit that ensures legal representation for pregnant minors in Texas. Immediately after graduating from law school, she was an If/When/How Reproductive Justice Fellow with Surge Reproductive Justice and Legal Voice in Seattle. Read more about Rosann here: <a href="https://law.utexas.edu/publicinterest/directory/rosann-mariappuram/">https://law.utexas.edu/publicinterest/directory/rosann-mariappuram/</a></p>
  <p>Please RSVP for Zoom link: <a href="https://utexas.zoom.us/meeting/register/tJ0rd-iuqTkuGt1xeD-UfDiZmt7pSihLI4QH">https://utexas.zoom.us/meeting/register/tJ0rd-iuqTkuGt1xeD-UfDiZmt7pSihLI4QH</a></p><p>If you need an accommodation to participate in this event, please contact the event
                                          event sponsor or the Texas Law Special Events Office at <a href="mailto:specialevents@law.utexas.edu">specialevents@law.utexas.edu</a> no later than seven business days prior to the event.</p>
CATEGORIES:Panel Discussion / Speaker Series

URL:http://law.utexas.edu/calendar/2022/04/06/67089/
CLASS:PUBLIC
STATUS:CONFIRMED

END:VEVENT
END:VCALENDAR