BEGIN:VCALENDAR
VERSION:2.0
PRODID:-//UNIVERSITY OF TEXAS SCHOOL OF LAW//NONSGML Events Calendar v1.0//EN
X-WR-TIMEZONE:America/Chicago
BEGIN:VTIMEZONE
TZID:US/Central
X-LIC-LOCATION:America/Chicago
BEGIN:DAYLIGHT
TZOFFSETFROM:-0600
TZOFFSETTO:-0500
TZNAME:CDT
DTSTART:19700308T020000
RRULE:FREQ=YEARLY;BYMONTH=3;BYDAY=2SU
END:DAYLIGHT
BEGIN:STANDARD
TZOFFSETFROM:-0500
TZOFFSETTO:-0600
TZNAME:CST
DTSTART:19701101T020000
RRULE:FREQ=YEARLY;BYMONTH=11;BYDAY=1SU
END:STANDARD
END:VTIMEZONE
BEGIN:VEVENT
DTSTART;TZID=US/Central:20220406T163000
DTEND;VALUE=DATE-TIME;TZID=US/Central:20220406T174500

DTSTAMP:20260419T161400Z
CREATED:20220321T144400Z
LAST-MODIFIED:20220321T144400Z
UID:20220406T163000-67625@law.utexas.edu
SUMMARY:Reproductive Rights Post-JWHO
DESCRIPTION:<p>Join the Texas Journal on Civil Liberties and Civil Rights, If/When/How: Lawyering for Reproductive Justice, and the American Constitution Society for a conversation with Texas Law Professors Elizabeth Sepper and Stephen Vladeck and Washington University School of Law Professor Susan Appleton. The discussion will focus on the legal landscape following Supreme Court's upcoming decision in Dobbs v. Jackson Women's Health Organization and the decision's potential impact on reproductive rights, substantive due process, and beyond. </p>\n\nIf you need an accommodation to participate in this event, please contact the event sponsor or the Texas Law Special Events Office at specialevents@law.utexas.edu no later than seven business days prior to the event.
X-ALT-DESC;FMTTYPE=text/html:<p>Join the Texas Journal on Civil Liberties and Civil Rights, If/When/How: Lawyering for Reproductive Justice, and the American Constitution Society for a conversation with Texas Law Professors Elizabeth Sepper and Stephen Vladeck and Washington University School of Law Professor Susan Appleton. The discussion will focus on the legal landscape following Supreme Court's upcoming decision in Dobbs v. Jackson Women's Health Organization and the decision's potential impact on reproductive rights, substantive due process, and beyond. </p><p>If you need an accommodation to participate in this event, please contact the event
                                          event sponsor or the Texas Law Special Events Office at <a href="mailto:specialevents@law.utexas.edu">specialevents@law.utexas.edu</a> no later than seven business days prior to the event.</p>
CATEGORIES:Panel Discussion / Speaker Series
LOCATION:TNH 2.137 - Gayle Classroom
URL:http://law.utexas.edu/calendar/2022/04/06/67625/
CLASS:PUBLIC
STATUS:CONFIRMED

END:VEVENT
END:VCALENDAR