BEGIN:VCALENDAR
VERSION:2.0
PRODID:-//UNIVERSITY OF TEXAS SCHOOL OF LAW//NONSGML Events Calendar v1.0//EN
X-WR-TIMEZONE:America/Chicago
BEGIN:VTIMEZONE
TZID:US/Central
X-LIC-LOCATION:America/Chicago
BEGIN:DAYLIGHT
TZOFFSETFROM:-0600
TZOFFSETTO:-0500
TZNAME:CDT
DTSTART:19700308T020000
RRULE:FREQ=YEARLY;BYMONTH=3;BYDAY=2SU
END:DAYLIGHT
BEGIN:STANDARD
TZOFFSETFROM:-0500
TZOFFSETTO:-0600
TZNAME:CST
DTSTART:19701101T020000
RRULE:FREQ=YEARLY;BYMONTH=11;BYDAY=1SU
END:STANDARD
END:VTIMEZONE
BEGIN:VEVENT
DTSTART;TZID=US/Central:20220407T183000
DTEND;VALUE=DATE-TIME;TZID=US/Central:20220407T203000

DTSTAMP:20260419T171000Z
CREATED:20220307T192200Z
LAST-MODIFIED:20220307T192200Z
UID:20220407T183000-67205@law.utexas.edu
SUMMARY:TJOGEL Spring Happy Hour
DESCRIPTION:<p>TJOGEL's Spring Happy will be on Thursday, April 7 from 6:30pm-8:30pm. The location for the Happy Hour is still being decided. Beverages and Hors d'Oeuvres will be served, and we will be inviting lawyers from many different firms and companies to attend the event. Since the law school does not allow us to pay for more than 2 drinks per student, you will only receive two drink tickets when you check in, but there will be a cash bar to purchase more beverages. Attire is business casual. Dues must be paid to RSVP.</p>
  <p>For more information, please email our Society Director, Lyle Paul, at lrpaul@utexas.edu.</p>\n\nIf you need an accommodation to participate in this event, please contact the event sponsor or the Texas Law Special Events Office at specialevents@law.utexas.edu no later than seven business days prior to the event.
X-ALT-DESC;FMTTYPE=text/html:<p>TJOGEL's Spring Happy will be on Thursday, April 7 from 6:30pm-8:30pm. The location for the Happy Hour is still being decided. Beverages and Hors d'Oeuvres will be served, and we will be inviting lawyers from many different firms and companies to attend the event. Since the law school does not allow us to pay for more than 2 drinks per student, you will only receive two drink tickets when you check in, but there will be a cash bar to purchase more beverages. Attire is business casual. Dues must be paid to RSVP.</p>
  <p>For more information, please email our Society Director, Lyle Paul, at lrpaul@utexas.edu.</p><p>If you need an accommodation to participate in this event, please contact the event
                                          event sponsor or the Texas Law Special Events Office at <a href="mailto:specialevents@law.utexas.edu">specialevents@law.utexas.edu</a> no later than seven business days prior to the event.</p>
CATEGORIES:Reception

URL:http://law.utexas.edu/calendar/2022/04/07/67205/
CLASS:PUBLIC
STATUS:CONFIRMED
COMMENT:lrpaul@utexas.edu
END:VEVENT
END:VCALENDAR