BEGIN:VCALENDAR
VERSION:2.0
PRODID:-//UNIVERSITY OF TEXAS SCHOOL OF LAW//NONSGML Events Calendar v1.0//EN
X-WR-TIMEZONE:America/Chicago
BEGIN:VTIMEZONE
TZID:US/Central
X-LIC-LOCATION:America/Chicago
BEGIN:DAYLIGHT
TZOFFSETFROM:-0600
TZOFFSETTO:-0500
TZNAME:CDT
DTSTART:19700308T020000
RRULE:FREQ=YEARLY;BYMONTH=3;BYDAY=2SU
END:DAYLIGHT
BEGIN:STANDARD
TZOFFSETFROM:-0500
TZOFFSETTO:-0600
TZNAME:CST
DTSTART:19701101T020000
RRULE:FREQ=YEARLY;BYMONTH=11;BYDAY=1SU
END:STANDARD
END:VTIMEZONE
BEGIN:VEVENT
DTSTART;TZID=US/Central:20220407T170000
DTEND;VALUE=DATE-TIME;TZID=US/Central:20220407T190000

DTSTAMP:20260419T161400Z
CREATED:20220328T213100Z
LAST-MODIFIED:20220328T213100Z
UID:20220407T170000-67785@law.utexas.edu
SUMMARY:TLF Happy Hour
DESCRIPTION:<p>Join TLF for Happy Hour and learn more about joining our Board of Directors! No prior participation in TLF is necessary. We look forward to meeting you and answering any questions!</p>\n\nIf you need an accommodation to participate in this event, please contact the event sponsor or the Texas Law Special Events Office at specialevents@law.utexas.edu no later than seven business days prior to the event.
X-ALT-DESC;FMTTYPE=text/html:<p>Join TLF for Happy Hour and learn more about joining our Board of Directors! No prior participation in TLF is necessary. We look forward to meeting you and answering any questions!</p><p>If you need an accommodation to participate in this event, please contact the event
                                          event sponsor or the Texas Law Special Events Office at <a href="mailto:specialevents@law.utexas.edu">specialevents@law.utexas.edu</a> no later than seven business days prior to the event.</p>
CATEGORIES:Other
LOCATION:Butterfly Bar
URL:http://law.utexas.edu/calendar/2022/04/07/67785/
CLASS:PUBLIC
STATUS:CONFIRMED

END:VEVENT
END:VCALENDAR