BEGIN:VCALENDAR
VERSION:2.0
PRODID:-//UNIVERSITY OF TEXAS SCHOOL OF LAW//NONSGML Events Calendar v1.0//EN
X-WR-TIMEZONE:America/Chicago
BEGIN:VTIMEZONE
TZID:US/Central
X-LIC-LOCATION:America/Chicago
BEGIN:DAYLIGHT
TZOFFSETFROM:-0600
TZOFFSETTO:-0500
TZNAME:CDT
DTSTART:19700308T020000
RRULE:FREQ=YEARLY;BYMONTH=3;BYDAY=2SU
END:DAYLIGHT
BEGIN:STANDARD
TZOFFSETFROM:-0500
TZOFFSETTO:-0600
TZNAME:CST
DTSTART:19701101T020000
RRULE:FREQ=YEARLY;BYMONTH=11;BYDAY=1SU
END:STANDARD
END:VTIMEZONE
BEGIN:VEVENT
DTSTART;TZID=US/Central:20220419T114500
DTEND;VALUE=DATE-TIME;TZID=US/Central:20220419T130000

DTSTAMP:20260419T182000Z
CREATED:20211102T200100Z
LAST-MODIFIED:20220413T210800Z
UID:20220419T114500-64828@law.utexas.edu
SUMMARY:Succeeding in Your Summer Clerkship
DESCRIPTION:<p>The <a href="https://law.utexas.edu/career/texas-law-professional-development-institute/">Texas Law Professional Development Series</a> is taught by industry experts and practicing attorneys, covering facets of new attorney professionalism most sought after by legal employers. <strong>This must-attend program will help you prepare for your summer clerkship or postgraduate job. </strong></p>
  <p>This session covers how to navigate the summer clerkship program and come out with an offer. Panelists will discuss ways to stand out during the summer program and provide tips for building your professional network within the firm.</p>
  <p>Whether you're a 1L preparing for your first summer clerkship or the fall recruiting season, a 2L working to turn your summer clerkship or fellowship into an offer, or a graduating 3L getting a head start on your legal career, the Texas Law Professional Development Institute (PDI), which is presented each Spring, will help you be a more competitive candidate and a better lawyer.</p>
  <p><a href="https://law-utexas-csm.symplicity.com/students/app/events">RSVP on Symplicity</a> by Friday, April 19, 2022. Lunch/snacks will be served after the program.
  </p>\n\nIf you need an accommodation to participate in this event, please contact the event sponsor or the Texas Law Special Events Office at specialevents@law.utexas.edu no later than seven business days prior to the event.
X-ALT-DESC;FMTTYPE=text/html:<p>The <a href="https://law.utexas.edu/career/texas-law-professional-development-institute/">Texas Law Professional Development Series</a> is taught by industry experts and practicing attorneys, covering facets of new attorney professionalism most sought after by legal employers. <strong>This must-attend program will help you prepare for your summer clerkship or postgraduate job. </strong></p>
  <p>This session covers how to navigate the summer clerkship program and come out with an offer. Panelists will discuss ways to stand out during the summer program and provide tips for building your professional network within the firm.</p>
  <p>Whether you're a 1L preparing for your first summer clerkship or the fall recruiting season, a 2L working to turn your summer clerkship or fellowship into an offer, or a graduating 3L getting a head start on your legal career, the Texas Law Professional Development Institute (PDI), which is presented each Spring, will help you be a more competitive candidate and a better lawyer.</p>
  <p><a href="https://law-utexas-csm.symplicity.com/students/app/events">RSVP on Symplicity</a> by Friday, April 19, 2022. Lunch/snacks will be served after the program.
  </p><p>If you need an accommodation to participate in this event, please contact the event
                                          event sponsor or the Texas Law Special Events Office at <a href="mailto:specialevents@law.utexas.edu">specialevents@law.utexas.edu</a> no later than seven business days prior to the event.</p>
CATEGORIES:Workshop / Training Program
LOCATION:TNH 2.114 - Francis Auditorium
URL:http://law.utexas.edu/calendar/2022/04/19/64828/
CLASS:PUBLIC
STATUS:CONFIRMED
COMMENT:Contact Mindy Finnigan, Director of Professional Development, at <a href="mailto:mindy.finnigan@law.utexas.edu">mindy.finnigan@law.utexas.edu</a>.
END:VEVENT
END:VCALENDAR