BEGIN:VCALENDAR
VERSION:2.0
PRODID:-//UNIVERSITY OF TEXAS SCHOOL OF LAW//NONSGML Events Calendar v1.0//EN
X-WR-TIMEZONE:America/Chicago
BEGIN:VTIMEZONE
TZID:US/Central
X-LIC-LOCATION:America/Chicago
BEGIN:DAYLIGHT
TZOFFSETFROM:-0600
TZOFFSETTO:-0500
TZNAME:CDT
DTSTART:19700308T020000
RRULE:FREQ=YEARLY;BYMONTH=3;BYDAY=2SU
END:DAYLIGHT
BEGIN:STANDARD
TZOFFSETFROM:-0500
TZOFFSETTO:-0600
TZNAME:CST
DTSTART:19701101T020000
RRULE:FREQ=YEARLY;BYMONTH=11;BYDAY=1SU
END:STANDARD
END:VTIMEZONE
BEGIN:VEVENT
DTSTART;TZID=US/Central:20220426T163000
DTEND;VALUE=DATE-TIME;TZID=US/Central:20220426T173000

DTSTAMP:20260419T220400Z
CREATED:20220408T220200Z
LAST-MODIFIED:20220408T220200Z
UID:20220426T163000-68007@law.utexas.edu
SUMMARY:Academic Freedom and Free Speech
DESCRIPTION:<p>The First Amendment Center welcomes Nadine Strossen (former national president of the ACLU) and Keith Whittington (Princeton University), two of the nation’s leading intellectuals on freedom of speech, for a thought-provoking and timely discussion of how universities and governments should handle speech and academic freedom in these polarized times. </p>
  <p>Moderated by Steven Collis, Director of the First Amendment Center. </p>
  <p>Light reception begins at 4:00pm. Event starts at 4:30pm. </p>
  <p>For more details and to register, please visit the link. We hope you join us!</p>\n\nIf you need an accommodation to participate in this event, please contact the event sponsor or the Texas Law Special Events Office at specialevents@law.utexas.edu no later than seven business days prior to the event.
X-ALT-DESC;FMTTYPE=text/html:<p>The First Amendment Center welcomes Nadine Strossen (former national president of the ACLU) and Keith Whittington (Princeton University), two of the nation’s leading intellectuals on freedom of speech, for a thought-provoking and timely discussion of how universities and governments should handle speech and academic freedom in these polarized times. </p>
  <p>Moderated by Steven Collis, Director of the First Amendment Center. </p>
  <p>Light reception begins at 4:00pm. Event starts at 4:30pm. </p>
  <p>For more details and to register, please visit the link. We hope you join us!</p><p>If you need an accommodation to participate in this event, please contact the event
                                          event sponsor or the Texas Law Special Events Office at <a href="mailto:specialevents@law.utexas.edu">specialevents@law.utexas.edu</a> no later than seven business days prior to the event.</p>
CATEGORIES:Panel Discussion / Speaker Series
LOCATION:Texas Union Theater
URL:http://law.utexas.edu/calendar/2022/04/26/68007/
CLASS:PUBLIC
STATUS:CONFIRMED

END:VEVENT
END:VCALENDAR