BEGIN:VCALENDAR
VERSION:2.0
PRODID:-//UNIVERSITY OF TEXAS SCHOOL OF LAW//NONSGML Events Calendar v1.0//EN
X-WR-TIMEZONE:America/Chicago
BEGIN:VTIMEZONE
TZID:US/Central
X-LIC-LOCATION:America/Chicago
BEGIN:DAYLIGHT
TZOFFSETFROM:-0600
TZOFFSETTO:-0500
TZNAME:CDT
DTSTART:19700308T020000
RRULE:FREQ=YEARLY;BYMONTH=3;BYDAY=2SU
END:DAYLIGHT
BEGIN:STANDARD
TZOFFSETFROM:-0500
TZOFFSETTO:-0600
TZNAME:CST
DTSTART:19701101T020000
RRULE:FREQ=YEARLY;BYMONTH=11;BYDAY=1SU
END:STANDARD
END:VTIMEZONE
BEGIN:VEVENT
DTSTART;TZID=US/Central:20220830T121500
DTEND;VALUE=DATE-TIME;TZID=US/Central:20220830T131500

DTSTAMP:20260419T145900Z
CREATED:20220823T194600Z
LAST-MODIFIED:20220823T194600Z
UID:20220830T121500-70068@law.utexas.edu
SUMMARY:How to Apply to the DOJ
DESCRIPTION:<p>Please RSVP by Monday, August 29, on <a href="https://law-utexas-csm.symplicity.com/students/index.php?s=event&amp;ss=ws&amp;_ksl=1&amp;mode=list">Symplicity</a>. Zoom link will then be sent before the event. </p>
  <p>With DOJ Honors and SLIP application deadlines just around the corner, come listen to three distinguished Texas Alum to help put the finishing touches on your applications. The program will feature attorneys from three different divisions of the DOJ and their path through the DOJ Honors program. Learn more about their divisions, application advice from someone who has been through the process, and interview tips from DOJ Attorneys.</p>\n\nIf you need an accommodation to participate in this event, please contact the event sponsor or the Texas Law Special Events Office at specialevents@law.utexas.edu no later than seven business days prior to the event.
X-ALT-DESC;FMTTYPE=text/html:<p>Please RSVP by Monday, August 29, on <a href="https://law-utexas-csm.symplicity.com/students/index.php?s=event&amp;ss=ws&amp;_ksl=1&amp;mode=list">Symplicity</a>. Zoom link will then be sent before the event. </p>
  <p>With DOJ Honors and SLIP application deadlines just around the corner, come listen to three distinguished Texas Alum to help put the finishing touches on your applications. The program will feature attorneys from three different divisions of the DOJ and their path through the DOJ Honors program. Learn more about their divisions, application advice from someone who has been through the process, and interview tips from DOJ Attorneys.</p><p>If you need an accommodation to participate in this event, please contact the event
                                          event sponsor or the Texas Law Special Events Office at <a href="mailto:specialevents@law.utexas.edu">specialevents@law.utexas.edu</a> no later than seven business days prior to the event.</p>
CATEGORIES:Workshop / Training Program
LOCATION:Virtual
URL:http://law.utexas.edu/calendar/2022/08/30/70068/
CLASS:PUBLIC
STATUS:CONFIRMED
COMMENT:Please contact Abbey Fowler, Career Counselor, at <a href="mailto:Abbey.Fowler@law.utexas.edu">Abbey.fowler@law.utexas.edu</a>.
END:VEVENT
END:VCALENDAR