BEGIN:VCALENDAR
VERSION:2.0
PRODID:-//UNIVERSITY OF TEXAS SCHOOL OF LAW//NONSGML Events Calendar v1.0//EN
X-WR-TIMEZONE:America/Chicago
BEGIN:VTIMEZONE
TZID:US/Central
X-LIC-LOCATION:America/Chicago
BEGIN:DAYLIGHT
TZOFFSETFROM:-0600
TZOFFSETTO:-0500
TZNAME:CDT
DTSTART:19700308T020000
RRULE:FREQ=YEARLY;BYMONTH=3;BYDAY=2SU
END:DAYLIGHT
BEGIN:STANDARD
TZOFFSETFROM:-0500
TZOFFSETTO:-0600
TZNAME:CST
DTSTART:19701101T020000
RRULE:FREQ=YEARLY;BYMONTH=11;BYDAY=1SU
END:STANDARD
END:VTIMEZONE
BEGIN:VEVENT
DTSTART;TZID=US/Central:20220901T190000
DTEND;VALUE=DATE-TIME;TZID=US/Central:20220901T210000

DTSTAMP:20260419T201300Z
CREATED:20220719T152600Z
LAST-MODIFIED:20220719T152600Z
UID:20220901T190000-69385@law.utexas.edu
SUMMARY:BOA Back-to-School Event
DESCRIPTION:<p>All Board of Advocates members are welcome to join the BOA Exec Board at our Back-to-Law School event at SMASH ATX in downtown Austin! Come out on Thursday, September 1, 2022, from 7PM-9PM for food, drink, ping-pong and to socialize and catch up with other members! Food and ping-pong will be provided by BOA. Please RSVP to Events by filling out the doc: <a href="https://docs.google.com/forms/d/1jZur9MubKv_dqzIZ-3DoXEYGin2CPhSqeg4cxCvaNRs/prefill">https://docs.google.com/forms/d/1jZur9MubKv_dqzIZ-3DoXEYGin2CPhSqeg4cxCvaNRs/prefill</a> . </p>\n\nIf you need an accommodation to participate in this event, please contact the event sponsor or the Texas Law Special Events Office at specialevents@law.utexas.edu no later than seven business days prior to the event.
X-ALT-DESC;FMTTYPE=text/html:<p>All Board of Advocates members are welcome to join the BOA Exec Board at our Back-to-Law School event at SMASH ATX in downtown Austin! Come out on Thursday, September 1, 2022, from 7PM-9PM for food, drink, ping-pong and to socialize and catch up with other members! Food and ping-pong will be provided by BOA. Please RSVP to Events by filling out the doc: <a href="https://docs.google.com/forms/d/1jZur9MubKv_dqzIZ-3DoXEYGin2CPhSqeg4cxCvaNRs/prefill">https://docs.google.com/forms/d/1jZur9MubKv_dqzIZ-3DoXEYGin2CPhSqeg4cxCvaNRs/prefill</a> . </p><p>If you need an accommodation to participate in this event, please contact the event
                                          event sponsor or the Texas Law Special Events Office at <a href="mailto:specialevents@law.utexas.edu">specialevents@law.utexas.edu</a> no later than seven business days prior to the event.</p>


URL:http://law.utexas.edu/calendar/2022/09/01/69385/
CLASS:PUBLIC
STATUS:CONFIRMED

END:VEVENT
END:VCALENDAR