BEGIN:VCALENDAR
VERSION:2.0
PRODID:-//UNIVERSITY OF TEXAS SCHOOL OF LAW//NONSGML Events Calendar v1.0//EN
X-WR-TIMEZONE:America/Chicago
BEGIN:VTIMEZONE
TZID:US/Central
X-LIC-LOCATION:America/Chicago
BEGIN:DAYLIGHT
TZOFFSETFROM:-0600
TZOFFSETTO:-0500
TZNAME:CDT
DTSTART:19700308T020000
RRULE:FREQ=YEARLY;BYMONTH=3;BYDAY=2SU
END:DAYLIGHT
BEGIN:STANDARD
TZOFFSETFROM:-0500
TZOFFSETTO:-0600
TZNAME:CST
DTSTART:19701101T020000
RRULE:FREQ=YEARLY;BYMONTH=11;BYDAY=1SU
END:STANDARD
END:VTIMEZONE
BEGIN:VEVENT
DTSTART;TZID=US/Central:20221012T180000
DTEND;VALUE=DATE-TIME;TZID=US/Central:20221012T190000

DTSTAMP:20260419T155400Z
CREATED:20220926T202000Z
LAST-MODIFIED:20220926T202000Z
UID:20221012T180000-70739@law.utexas.edu
SUMMARY:TXSLAPS Fall General Meeting
DESCRIPTION:<p>The Texas Space Law &amp; Policy Society invites students, staff, and faculty to its Fall General Meeting. We will be welcoming new members into the organization, identifying upcoming networking and professional development opportunities, and discussing exciting developments in space law, policy, and related fields!</p>\n\nIf you need an accommodation to participate in this event, please contact the event sponsor or the Texas Law Special Events Office at specialevents@law.utexas.edu no later than seven business days prior to the event.
X-ALT-DESC;FMTTYPE=text/html:<p>The Texas Space Law &amp; Policy Society invites students, staff, and faculty to its Fall General Meeting. We will be welcoming new members into the organization, identifying upcoming networking and professional development opportunities, and discussing exciting developments in space law, policy, and related fields!</p><p>If you need an accommodation to participate in this event, please contact the event
                                          event sponsor or the Texas Law Special Events Office at <a href="mailto:specialevents@law.utexas.edu">specialevents@law.utexas.edu</a> no later than seven business days prior to the event.</p>
CATEGORIES:Meeting
LOCATION:TNH 2.139 - Wilson Classroom
URL:http://law.utexas.edu/calendar/2022/10/12/70739/
CLASS:PUBLIC
STATUS:CONFIRMED

END:VEVENT
END:VCALENDAR