BEGIN:VCALENDAR
VERSION:2.0
PRODID:-//UNIVERSITY OF TEXAS SCHOOL OF LAW//NONSGML Events Calendar v1.0//EN
X-WR-TIMEZONE:America/Chicago
BEGIN:VTIMEZONE
TZID:US/Central
X-LIC-LOCATION:America/Chicago
BEGIN:DAYLIGHT
TZOFFSETFROM:-0600
TZOFFSETTO:-0500
TZNAME:CDT
DTSTART:19700308T020000
RRULE:FREQ=YEARLY;BYMONTH=3;BYDAY=2SU
END:DAYLIGHT
BEGIN:STANDARD
TZOFFSETFROM:-0500
TZOFFSETTO:-0600
TZNAME:CST
DTSTART:19701101T020000
RRULE:FREQ=YEARLY;BYMONTH=11;BYDAY=1SU
END:STANDARD
END:VTIMEZONE
BEGIN:VEVENT
DTSTART;TZID=US/Central:20221025T173000
DTEND;VALUE=DATE-TIME;TZID=US/Central:20221025T190000

DTSTAMP:20260419T173000Z
CREATED:20221017T003700Z
LAST-MODIFIED:20221017T003700Z
UID:20221025T173000-71165@law.utexas.edu
SUMMARY:Movement Lawyering and Radicalism
DESCRIPTION:<p>Movement Lawyering And Radicalism: Are You Really A Radical? On October 25th,  we are excited to invite Carlton Williams to discuss radicalism in the legal profession! Mr. Williams is a movement lawyer and organizer dedicated to building and supporting liberation struggles, has practiced criminal and civil rights law, and is currently faculty at Cornell Law. We will provide food after the event for in-person attendees! </p>
  <p>Zoom Alternative: <a href="https://utexas.zoom.us/j/8680915549">https://utexas.zoom.us/j/8680915549</a>
  </p>\n\nIf you need an accommodation to participate in this event, please contact the event sponsor or the Texas Law Special Events Office at specialevents@law.utexas.edu no later than seven business days prior to the event.
X-ALT-DESC;FMTTYPE=text/html:<p>Movement Lawyering And Radicalism: Are You Really A Radical? On October 25th,  we are excited to invite Carlton Williams to discuss radicalism in the legal profession! Mr. Williams is a movement lawyer and organizer dedicated to building and supporting liberation struggles, has practiced criminal and civil rights law, and is currently faculty at Cornell Law. We will provide food after the event for in-person attendees! </p>
  <p>Zoom Alternative: <a href="https://utexas.zoom.us/j/8680915549">https://utexas.zoom.us/j/8680915549</a>
  </p><p>If you need an accommodation to participate in this event, please contact the event
                                          event sponsor or the Texas Law Special Events Office at <a href="mailto:specialevents@law.utexas.edu">specialevents@law.utexas.edu</a> no later than seven business days prior to the event.</p>


URL:http://law.utexas.edu/calendar/2022/10/25/71165/
CLASS:PUBLIC
STATUS:CONFIRMED

END:VEVENT
END:VCALENDAR