BEGIN:VCALENDAR
VERSION:2.0
PRODID:-//UNIVERSITY OF TEXAS SCHOOL OF LAW//NONSGML Events Calendar v1.0//EN
X-WR-TIMEZONE:America/Chicago
BEGIN:VTIMEZONE
TZID:US/Central
X-LIC-LOCATION:America/Chicago
BEGIN:DAYLIGHT
TZOFFSETFROM:-0600
TZOFFSETTO:-0500
TZNAME:CDT
DTSTART:19700308T020000
RRULE:FREQ=YEARLY;BYMONTH=3;BYDAY=2SU
END:DAYLIGHT
BEGIN:STANDARD
TZOFFSETFROM:-0500
TZOFFSETTO:-0600
TZNAME:CST
DTSTART:19701101T020000
RRULE:FREQ=YEARLY;BYMONTH=11;BYDAY=1SU
END:STANDARD
END:VTIMEZONE
BEGIN:VEVENT
DTSTART;TZID=US/Central:20221108T090000
DTEND;VALUE=DATE-TIME;TZID=US/Central:20221108T170000

DTSTAMP:20260419T183700Z
CREATED:20220915T153000Z
LAST-MODIFIED:20220915T153000Z
UID:20221108T090000-70548@law.utexas.edu
SUMMARY:Mock Interview Program: Public Sector
DESCRIPTION:<p>Each year, the CSO hosts the <a href="https://law.utexas.edu/career/interview-programs/ps-mock-interview-program/">public sector Mock Interview Program</a>. This program aims to introduce our students to the legal interviewing process and affords attorneys an opportunity to meet our exceptional students. Practice interviews and attorney feedback are invaluable to our students, preparing them technically and instilling confidence as they embark on their 1L interview season. Depending on availability, 2L and 3Ls may also participate in this program.
  Monday, November 7, 2022: In-person interviews will be held in the Career Services Interview Suite
   	Tuesday, November 8, 2022: Virtual interviews will be held on Flo Recruit
  Each mock interview will be 20-minutes in length followed by a 10-minute review.</p>
  <p>The initial sign-up period for 1Ls opens at 4:00 p.m. on Tuesday, October 25, and closes at noon on Wednesday, October 26. If spots are still available you will be able to sign up for third mock interview from 4:00 p.m. Wednesday, October 26, until 11;59 p.m. on Thursday, October 27, 2022.
  </p>\n\nIf you need an accommodation to participate in this event, please contact the event sponsor or the Texas Law Special Events Office at specialevents@law.utexas.edu no later than seven business days prior to the event.
X-ALT-DESC;FMTTYPE=text/html:<p>Each year, the CSO hosts the <a href="https://law.utexas.edu/career/interview-programs/ps-mock-interview-program/">public sector Mock Interview Program</a>. This program aims to introduce our students to the legal interviewing process and affords attorneys an opportunity to meet our exceptional students. Practice interviews and attorney feedback are invaluable to our students, preparing them technically and instilling confidence as they embark on their 1L interview season. Depending on availability, 2L and 3Ls may also participate in this program.
  Monday, November 7, 2022: In-person interviews will be held in the Career Services Interview Suite
   	Tuesday, November 8, 2022: Virtual interviews will be held on Flo Recruit
  Each mock interview will be 20-minutes in length followed by a 10-minute review.</p>
  <p>The initial sign-up period for 1Ls opens at 4:00 p.m. on Tuesday, October 25, and closes at noon on Wednesday, October 26. If spots are still available you will be able to sign up for third mock interview from 4:00 p.m. Wednesday, October 26, until 11;59 p.m. on Thursday, October 27, 2022.
  </p><p>If you need an accommodation to participate in this event, please contact the event
                                          event sponsor or the Texas Law Special Events Office at <a href="mailto:specialevents@law.utexas.edu">specialevents@law.utexas.edu</a> no later than seven business days prior to the event.</p>
CATEGORIES:Interview Program
LOCATION:Flo Recruit
URL:http://law.utexas.edu/calendar/2022/11/08/70548/
CLASS:PUBLIC
STATUS:CONFIRMED
COMMENT:Rachel Quiroz, OCI Coordinator, at <a href="mailto:rquiroz@law.utexas.edu">rquiroz@law.utexas.edu</a>.
END:VEVENT
END:VCALENDAR