BEGIN:VCALENDAR
VERSION:2.0
PRODID:-//UNIVERSITY OF TEXAS SCHOOL OF LAW//NONSGML Events Calendar v1.0//EN
X-WR-TIMEZONE:America/Chicago
BEGIN:VTIMEZONE
TZID:US/Central
X-LIC-LOCATION:America/Chicago
BEGIN:DAYLIGHT
TZOFFSETFROM:-0600
TZOFFSETTO:-0500
TZNAME:CDT
DTSTART:19700308T020000
RRULE:FREQ=YEARLY;BYMONTH=3;BYDAY=2SU
END:DAYLIGHT
BEGIN:STANDARD
TZOFFSETFROM:-0500
TZOFFSETTO:-0600
TZNAME:CST
DTSTART:19701101T020000
RRULE:FREQ=YEARLY;BYMONTH=11;BYDAY=1SU
END:STANDARD
END:VTIMEZONE
BEGIN:VEVENT
DTSTART;TZID=US/Central:20221114T120000
DTEND;VALUE=DATE-TIME;TZID=US/Central:20221114T130000

DTSTAMP:20260419T120000Z
CREATED:20220802T180700Z
LAST-MODIFIED:20221101T203800Z
UID:20221114T120000-69643@law.utexas.edu
SUMMARY:Texas Law Review Mini-Symposium: A Conve
DESCRIPTION:<p>Texas Law Review is hosting a lunchtime conversation between Texas Law Professors Vladeck and Ponomarenko and Professors Macey and Richardson about their article coming out in Volume 101 of Texas Law Review. All Texas Law students and faculty are welcome. Lunch will be served. </p>\n\nIf you need an accommodation to participate in this event, please contact the event sponsor or the Texas Law Special Events Office at specialevents@law.utexas.edu no later than seven business days prior to the event.
X-ALT-DESC;FMTTYPE=text/html:<p>Texas Law Review is hosting a lunchtime conversation between Texas Law Professors Vladeck and Ponomarenko and Professors Macey and Richardson about their article coming out in Volume 101 of Texas Law Review. All Texas Law students and faculty are welcome. Lunch will be served. </p><p>If you need an accommodation to participate in this event, please contact the event
                                          event sponsor or the Texas Law Special Events Office at <a href="mailto:specialevents@law.utexas.edu">specialevents@law.utexas.edu</a> no later than seven business days prior to the event.</p>
CATEGORIES:Panel Discussion / Speaker Series
LOCATION:TNH 2.114 - Francis Auditorium
URL:http://law.utexas.edu/calendar/2022/11/14/69643/
CLASS:PUBLIC
STATUS:CONFIRMED

END:VEVENT
END:VCALENDAR