BEGIN:VCALENDAR
VERSION:2.0
PRODID:-//UNIVERSITY OF TEXAS SCHOOL OF LAW//NONSGML Events Calendar v1.0//EN
X-WR-TIMEZONE:America/Chicago
BEGIN:VTIMEZONE
TZID:US/Central
X-LIC-LOCATION:America/Chicago
BEGIN:DAYLIGHT
TZOFFSETFROM:-0600
TZOFFSETTO:-0500
TZNAME:CDT
DTSTART:19700308T020000
RRULE:FREQ=YEARLY;BYMONTH=3;BYDAY=2SU
END:DAYLIGHT
BEGIN:STANDARD
TZOFFSETFROM:-0500
TZOFFSETTO:-0600
TZNAME:CST
DTSTART:19701101T020000
RRULE:FREQ=YEARLY;BYMONTH=11;BYDAY=1SU
END:STANDARD
END:VTIMEZONE
BEGIN:VEVENT
DTSTART;TZID=US/Central:20221116T161500
DTEND;VALUE=DATE-TIME;TZID=US/Central:20221116T171500

DTSTAMP:20260419T183800Z
CREATED:20220518T191300Z
LAST-MODIFIED:20221101T163700Z
UID:20221116T161500-68645@law.utexas.edu
SUMMARY:Address by Melissa Murray
DESCRIPTION:<p></p>
  <p>Melissa Murray will give an address entitled “Race-ing Roe and Woke Warriors: Weaponizing Racial Justice at the Supreme Court.”</p>
  <p>Professor Melissa Murray of New York University School of Law is a leading expert in family law, constitutional law, and reproductive rights and justice. Murray’s award-winning research focuses on the legal regulation of intimate life and encompasses such topics as the regulation of sex and sexuality, marriage and its alternatives, the marriage equality debate, the legal recognition of caregiving, and reproductive rights and justice. She is also a cohost of the podcast Strict Scrutiny. For more of her complete biography, visit: <a href="https://its.law.nyu.edu/facultyprofiles/index.cfm?fuseaction=profile.biography&amp;personid=40825">https://its.law.nyu.edu/facultyprofiles/index.cfm?fuseaction=profile.biography&amp;personid=40825</a></p>
  <p>This event has been accredited by the State Bar of Texas for 1.00 hour of CLE credit.
  </p>
  <p>This event is open to the public. Professor Murray’s talk in the Eidman Courtroom will be followed by a reception in the Jamail Pavilion. </p>
  <p>Hosted by the William Wayne Justice Center for Public Interest Law. Her address is cosponsored by the Center for Women in Law and Texas Law’s Office for Equity and Inclusion, along with the American Constitution Society Austin Lawyer and Texas Law Chapters, the Chicano/Hispanic/Latino Law Students Association, If/When/How, Law Students for Black Lives, the Public Interest Law Association, and the Thurgood Marshall Legal Society.
  </p>\n\nIf you need an accommodation to participate in this event, please contact the event sponsor or the Texas Law Special Events Office at specialevents@law.utexas.edu no later than seven business days prior to the event.
X-ALT-DESC;FMTTYPE=text/html:<p></p>
  <p>Melissa Murray will give an address entitled “Race-ing Roe and Woke Warriors: Weaponizing Racial Justice at the Supreme Court.”</p>
  <p>Professor Melissa Murray of New York University School of Law is a leading expert in family law, constitutional law, and reproductive rights and justice. Murray’s award-winning research focuses on the legal regulation of intimate life and encompasses such topics as the regulation of sex and sexuality, marriage and its alternatives, the marriage equality debate, the legal recognition of caregiving, and reproductive rights and justice. She is also a cohost of the podcast Strict Scrutiny. For more of her complete biography, visit: <a href="https://its.law.nyu.edu/facultyprofiles/index.cfm?fuseaction=profile.biography&amp;personid=40825">https://its.law.nyu.edu/facultyprofiles/index.cfm?fuseaction=profile.biography&amp;personid=40825</a></p>
  <p>This event has been accredited by the State Bar of Texas for 1.00 hour of CLE credit.
  </p>
  <p>This event is open to the public. Professor Murray’s talk in the Eidman Courtroom will be followed by a reception in the Jamail Pavilion. </p>
  <p>Hosted by the William Wayne Justice Center for Public Interest Law. Her address is cosponsored by the Center for Women in Law and Texas Law’s Office for Equity and Inclusion, along with the American Constitution Society Austin Lawyer and Texas Law Chapters, the Chicano/Hispanic/Latino Law Students Association, If/When/How, Law Students for Black Lives, the Public Interest Law Association, and the Thurgood Marshall Legal Society.
  </p><p>If you need an accommodation to participate in this event, please contact the event
                                          event sponsor or the Texas Law Special Events Office at <a href="mailto:specialevents@law.utexas.edu">specialevents@law.utexas.edu</a> no later than seven business days prior to the event.</p>
CATEGORIES:Panel Discussion / Speaker Series
LOCATION:CCJ 2.306 - Eidman Courtroom
URL:http://law.utexas.edu/calendar/2022/11/16/68645/
CLASS:PUBLIC
STATUS:CONFIRMED

END:VEVENT
END:VCALENDAR