BEGIN:VCALENDAR
VERSION:2.0
PRODID:-//UNIVERSITY OF TEXAS SCHOOL OF LAW//NONSGML Events Calendar v1.0//EN
X-WR-TIMEZONE:America/Chicago
BEGIN:VTIMEZONE
TZID:US/Central
X-LIC-LOCATION:America/Chicago
BEGIN:DAYLIGHT
TZOFFSETFROM:-0600
TZOFFSETTO:-0500
TZNAME:CDT
DTSTART:19700308T020000
RRULE:FREQ=YEARLY;BYMONTH=3;BYDAY=2SU
END:DAYLIGHT
BEGIN:STANDARD
TZOFFSETFROM:-0500
TZOFFSETTO:-0600
TZNAME:CST
DTSTART:19701101T020000
RRULE:FREQ=YEARLY;BYMONTH=11;BYDAY=1SU
END:STANDARD
END:VTIMEZONE
BEGIN:VEVENT
DTSTART;TZID=US/Central:20221116T120000
DTEND;VALUE=DATE-TIME;TZID=US/Central:20221116T130000

DTSTAMP:20260419T211800Z
CREATED:20221102T151000Z
LAST-MODIFIED:20221107T153700Z
UID:20221116T120000-71605@law.utexas.edu
SUMMARY:U.S. Special Forces to the Blockchain
DESCRIPTION:<p>On Wednesday, November 16, the Strauss Center joins the Texas Law Veterans Association and the Texas Veterans in Business in hosting the first talk of its inaugural Blockchain and Cryptocurrency Policy Week. Join us in hearing Alex Pruden, CEO of blockchain startup Aleo, discuss blockchain and cryptocurrency technologies.</p>
  <p>Are cryptocurrencies the next frontier in innovation or a threat to national security?  How will decentralized finance, the metaverse, and other “Web3” applications affect counterterrorism, sanctions, and intelligence gathering?  Is Bitcoin a danger to the climate or a better way to finance green energy?  Strauss Center experts will consider these and other questions during the inaugural Blockchain and Cryptocurrency Policy Week.</p>
  <p>This event is open to UT students with priority given to members of the Texas Law Veterans Association and the Texas Veterans in Business. RSVP is required. Lunch will be served. To RSVP, please contact Susan Crane at scrane@austin.utexas.edu.</p>\n\nIf you need an accommodation to participate in this event, please contact the event sponsor or the Texas Law Special Events Office at specialevents@law.utexas.edu no later than seven business days prior to the event.
X-ALT-DESC;FMTTYPE=text/html:<p>On Wednesday, November 16, the Strauss Center joins the Texas Law Veterans Association and the Texas Veterans in Business in hosting the first talk of its inaugural Blockchain and Cryptocurrency Policy Week. Join us in hearing Alex Pruden, CEO of blockchain startup Aleo, discuss blockchain and cryptocurrency technologies.</p>
  <p>Are cryptocurrencies the next frontier in innovation or a threat to national security?  How will decentralized finance, the metaverse, and other “Web3” applications affect counterterrorism, sanctions, and intelligence gathering?  Is Bitcoin a danger to the climate or a better way to finance green energy?  Strauss Center experts will consider these and other questions during the inaugural Blockchain and Cryptocurrency Policy Week.</p>
  <p>This event is open to UT students with priority given to members of the Texas Law Veterans Association and the Texas Veterans in Business. RSVP is required. Lunch will be served. To RSVP, please contact Susan Crane at scrane@austin.utexas.edu.</p><p>If you need an accommodation to participate in this event, please contact the event
                                          event sponsor or the Texas Law Special Events Office at <a href="mailto:specialevents@law.utexas.edu">specialevents@law.utexas.edu</a> no later than seven business days prior to the event.</p>
CATEGORIES:Panel Discussion / Speaker Series
LOCATION:McCombs School of Business
URL:http://law.utexas.edu/calendar/2022/11/16/71605/
CLASS:PUBLIC
STATUS:CONFIRMED

END:VEVENT
END:VCALENDAR