BEGIN:VCALENDAR
VERSION:2.0
PRODID:-//UNIVERSITY OF TEXAS SCHOOL OF LAW//NONSGML Events Calendar v1.0//EN
X-WR-TIMEZONE:America/Chicago
BEGIN:VTIMEZONE
TZID:US/Central
X-LIC-LOCATION:America/Chicago
BEGIN:DAYLIGHT
TZOFFSETFROM:-0600
TZOFFSETTO:-0500
TZNAME:CDT
DTSTART:19700308T020000
RRULE:FREQ=YEARLY;BYMONTH=3;BYDAY=2SU
END:DAYLIGHT
BEGIN:STANDARD
TZOFFSETFROM:-0500
TZOFFSETTO:-0600
TZNAME:CST
DTSTART:19701101T020000
RRULE:FREQ=YEARLY;BYMONTH=11;BYDAY=1SU
END:STANDARD
END:VTIMEZONE
BEGIN:VEVENT
DTSTART;TZID=US/Central:20221117T124500
DTEND;VALUE=DATE-TIME;TZID=US/Central:20221117T134500

DTSTAMP:20260419T150400Z
CREATED:20221102T151600Z
LAST-MODIFIED:20221102T151600Z
UID:20221117T124500-71606@law.utexas.edu
SUMMARY:Cryptocurrency Mining Energy Consumption
DESCRIPTION:<p>On Thursday, November 17, the Strauss Center is hosting a panel of experts in energy and cryptocurrency as part of its inaugural Blockchain and Cryptocurrency Policy Week. Dr. Carey King, Assistant Director at UT Austin’s Energy Institute joins UT research scientist Dr. Joshua Rhodes and Strauss Technology, Security, and Global Affairs Fellow Sina Kian in discussing energy consumption involved in cryptocurrency mining and the implications of this consumption.</p>
  <p>Are cryptocurrencies the next frontier in innovation or a threat to national security?  How will decentralized finance, the metaverse, and other “Web3” applications affect counterterrorism, sanctions, and intelligence gathering?  Is Bitcoin a danger to the climate or a better way to finance green energy?  Strauss Center experts will consider these and other questions during the inaugural Blockchain and Cryptocurrency Policy Week.</p>
  <p>This event is free and open to the public. No RSVP required. Lunch will be served. For more information on this event, contact Susan Crane at scrane@austin.utexas.edu.</p>
  <p>
  Biographies</p>
  <p>Dr. Carey King performs interdisciplinary research related to how energy systems interact within the economy and environment as well as how our policy and social systems can make decisions and tradeoffs among these often competing factors. Dr. King’s research goals center on rigorous interpretations of the past to determine the most probable future energy pathways. He is a  research scientist at The University of Texas at Austin and Assistant Director at the Energy Institute. He also has appointments with the Center for International Energy and Environmental Policy within the Jackson School of Geosciences and the McCombs School of Business. He has both a B.S. with high honors and Ph.D. in Mechanical Engineering from the University of Texas at Austin. He has published technical articles in the academic journals Environmental Science and Technology, Environmental Research Letters, Nature Geoscience, Energy Policy, Sustainability, and Ecology and Society. He has also written commentary for American Scientist andEarth magazines as well as major newspapers such as the Dallas Morning News, Houston Chronicle, and Austin American-Statesman. Dr. King has several patents as former Director for Scientific Research of Uni-Pixel Displays, Inc.</p>
  <p>Dr. Joshua Rhodes is a research scientist at the University of Texas at Austin, a non-Resident Fellow at Columbia University, and a Founding partner of IdeaSmiths LLC. His current work is in the area of smart grid and the bulk electricity system, including spatial system-level applications and impacts of energy efficiency, resource planning, distributed generation, and storage. He is interested in policy and the impacts that good policy can have on the efficiency of the micro and macro economy. He is a regular contributor to Forbes and is an AXIOS Expert Voice. He also sits on the boards of Catalyst Cooperative. He holds a double bachelors in Mathematics and Economics from Stephen F. Austin State University, a masters in Computational Mathematics from Texas A&amp;M University, a masters in Architectural Engineering from The University of Texas at Austin and a Ph.D. in Civil Engineering from The University of Texas at Austin.</p>
  <p>Sina Kian is Chief Strategy Officer &amp; General Counsel at Aleo, a startup building a decentralized blockchain that uses cryptography to provide significantly enhanced data security and privacy capabilities. Si</p>\n\nIf you need an accommodation to participate in this event, please contact the event sponsor or the Texas Law Special Events Office at specialevents@law.utexas.edu no later than seven business days prior to the event.
X-ALT-DESC;FMTTYPE=text/html:<p>On Thursday, November 17, the Strauss Center is hosting a panel of experts in energy and cryptocurrency as part of its inaugural Blockchain and Cryptocurrency Policy Week. Dr. Carey King, Assistant Director at UT Austin’s Energy Institute joins UT research scientist Dr. Joshua Rhodes and Strauss Technology, Security, and Global Affairs Fellow Sina Kian in discussing energy consumption involved in cryptocurrency mining and the implications of this consumption.</p>
  <p>Are cryptocurrencies the next frontier in innovation or a threat to national security?  How will decentralized finance, the metaverse, and other “Web3” applications affect counterterrorism, sanctions, and intelligence gathering?  Is Bitcoin a danger to the climate or a better way to finance green energy?  Strauss Center experts will consider these and other questions during the inaugural Blockchain and Cryptocurrency Policy Week.</p>
  <p>This event is free and open to the public. No RSVP required. Lunch will be served. For more information on this event, contact Susan Crane at scrane@austin.utexas.edu.</p>
  <p>
  Biographies</p>
  <p>Dr. Carey King performs interdisciplinary research related to how energy systems interact within the economy and environment as well as how our policy and social systems can make decisions and tradeoffs among these often competing factors. Dr. King’s research goals center on rigorous interpretations of the past to determine the most probable future energy pathways. He is a  research scientist at The University of Texas at Austin and Assistant Director at the Energy Institute. He also has appointments with the Center for International Energy and Environmental Policy within the Jackson School of Geosciences and the McCombs School of Business. He has both a B.S. with high honors and Ph.D. in Mechanical Engineering from the University of Texas at Austin. He has published technical articles in the academic journals Environmental Science and Technology, Environmental Research Letters, Nature Geoscience, Energy Policy, Sustainability, and Ecology and Society. He has also written commentary for American Scientist andEarth magazines as well as major newspapers such as the Dallas Morning News, Houston Chronicle, and Austin American-Statesman. Dr. King has several patents as former Director for Scientific Research of Uni-Pixel Displays, Inc.</p>
  <p>Dr. Joshua Rhodes is a research scientist at the University of Texas at Austin, a non-Resident Fellow at Columbia University, and a Founding partner of IdeaSmiths LLC. His current work is in the area of smart grid and the bulk electricity system, including spatial system-level applications and impacts of energy efficiency, resource planning, distributed generation, and storage. He is interested in policy and the impacts that good policy can have on the efficiency of the micro and macro economy. He is a regular contributor to Forbes and is an AXIOS Expert Voice. He also sits on the boards of Catalyst Cooperative. He holds a double bachelors in Mathematics and Economics from Stephen F. Austin State University, a masters in Computational Mathematics from Texas A&amp;M University, a masters in Architectural Engineering from The University of Texas at Austin and a Ph.D. in Civil Engineering from The University of Texas at Austin.</p>
  <p>Sina Kian is Chief Strategy Officer &amp; General Counsel at Aleo, a startup building a decentralized blockchain that uses cryptography to provide significantly enhanced data security and privacy capabilities. Si</p><p>If you need an accommodation to participate in this event, please contact the event
                                          event sponsor or the Texas Law Special Events Office at <a href="mailto:specialevents@law.utexas.edu">specialevents@law.utexas.edu</a> no later than seven business days prior to the event.</p>
CATEGORIES:Panel Discussion / Speaker Series
LOCATION:WCP 2.302 Legislative Assembly Room, Student Activity Center
URL:http://law.utexas.edu/calendar/2022/11/17/71606/
CLASS:PUBLIC
STATUS:CONFIRMED

END:VEVENT
END:VCALENDAR