BEGIN:VCALENDAR
VERSION:2.0
PRODID:-//UNIVERSITY OF TEXAS SCHOOL OF LAW//NONSGML Events Calendar v1.0//EN
X-WR-TIMEZONE:America/Chicago
BEGIN:VTIMEZONE
TZID:US/Central
X-LIC-LOCATION:America/Chicago
BEGIN:DAYLIGHT
TZOFFSETFROM:-0600
TZOFFSETTO:-0500
TZNAME:CDT
DTSTART:19700308T020000
RRULE:FREQ=YEARLY;BYMONTH=3;BYDAY=2SU
END:DAYLIGHT
BEGIN:STANDARD
TZOFFSETFROM:-0500
TZOFFSETTO:-0600
TZNAME:CST
DTSTART:19701101T020000
RRULE:FREQ=YEARLY;BYMONTH=11;BYDAY=1SU
END:STANDARD
END:VTIMEZONE
BEGIN:VEVENT
DTSTART;TZID=US/Central:20221117T114500
DTEND;VALUE=DATE-TIME;TZID=US/Central:20221117T124500

DTSTAMP:20260419T165400Z
CREATED:20221107T172400Z
LAST-MODIFIED:20221108T203600Z
UID:20221117T114500-71686@law.utexas.edu
SUMMARY:Doing Well and Doing Good:  How and Why
DESCRIPTION:<p>In 2020, the largest firms in the United States donated nearly 5.5 million hours to pro bono clients – but also saw record profits. In fact, the largest and most profitable firms did the most pro bono work. How is it possible to be both profitable and pro bono-minded? Steven Schulman, Pro Bono Partner at Akin Gump, will explain how lawyers and their firms can both do well and do good. Having served more than two decades as both an antitrust lawyer then a pro bono partner, Schulman offers his insights into both law firm economics and pro bono practice. He manages the firm’s world-wide pro bono practice, which devotes more than 100,000 hours annually to a range of clients, from non-profit organizations to individuals in need of protection.</p>\n\nIf you need an accommodation to participate in this event, please contact the event sponsor or the Texas Law Special Events Office at specialevents@law.utexas.edu no later than seven business days prior to the event.
X-ALT-DESC;FMTTYPE=text/html:<p>In 2020, the largest firms in the United States donated nearly 5.5 million hours to pro bono clients – but also saw record profits. In fact, the largest and most profitable firms did the most pro bono work. How is it possible to be both profitable and pro bono-minded? Steven Schulman, Pro Bono Partner at Akin Gump, will explain how lawyers and their firms can both do well and do good. Having served more than two decades as both an antitrust lawyer then a pro bono partner, Schulman offers his insights into both law firm economics and pro bono practice. He manages the firm’s world-wide pro bono practice, which devotes more than 100,000 hours annually to a range of clients, from non-profit organizations to individuals in need of protection.</p><p>If you need an accommodation to participate in this event, please contact the event
                                          event sponsor or the Texas Law Special Events Office at <a href="mailto:specialevents@law.utexas.edu">specialevents@law.utexas.edu</a> no later than seven business days prior to the event.</p>

LOCATION:TNH 2.123 - Beck Classroom
URL:http://law.utexas.edu/calendar/2022/11/17/71686/
CLASS:PUBLIC
STATUS:CONFIRMED

END:VEVENT
END:VCALENDAR