BEGIN:VCALENDAR
VERSION:2.0
PRODID:-//UNIVERSITY OF TEXAS SCHOOL OF LAW//NONSGML Events Calendar v1.0//EN
X-WR-TIMEZONE:America/Chicago
BEGIN:VTIMEZONE
TZID:US/Central
X-LIC-LOCATION:America/Chicago
BEGIN:DAYLIGHT
TZOFFSETFROM:-0600
TZOFFSETTO:-0500
TZNAME:CDT
DTSTART:19700308T020000
RRULE:FREQ=YEARLY;BYMONTH=3;BYDAY=2SU
END:DAYLIGHT
BEGIN:STANDARD
TZOFFSETFROM:-0500
TZOFFSETTO:-0600
TZNAME:CST
DTSTART:19701101T020000
RRULE:FREQ=YEARLY;BYMONTH=11;BYDAY=1SU
END:STANDARD
END:VTIMEZONE
BEGIN:VEVENT
DTSTART;TZID=US/Central:20221129T160000
DTEND;VALUE=DATE-TIME;TZID=US/Central:20221129T170000

DTSTAMP:20260419T183800Z
CREATED:20221114T175200Z
LAST-MODIFIED:20221115T183700Z
UID:20221129T160000-71787@law.utexas.edu
SUMMARY:Prosecuting Poverty, Criminalizing Care
DESCRIPTION:<p>Professor Wendy A. Bach of the University of Tennessee College of Law will discuss her new book, Prosecuting Poverty, Criminalizing Care, which focuses on Tennessee’s fetal assault law as an example of the criminalization of care in poor communities. Professor Aziza Ahmed of Boston University School of Law will respond. Rapoport Center co-director Professor Karen Engle will moderate.
   
  Wendy Bach has dedicated her career to representing children and families in poor communities in a variety of legal settings. Her scholarship focuses on the interaction between systems of support and care and systems of punishment in poor communities.
   
  Aziza Ahmed's scholarship examines the intersection of law, politics, and science in the ﬁelds of constitutional, criminal, health, and family law.</p>
  <p>Register here: <a href="https://utexas.zoom.us/webinar/register/WN_b-CsX9fdStWRqgruIzwWEg?mc_cid=f2e5536532&amp;mc_eid=a1d623954b">https://utexas.zoom.us/webinar/register/WN_b-CsX9fdStWRqgruIzwWEg?mc_cid=f2e5536532&amp;mc_eid=a1d623954b</a></p>\n\nIf you need an accommodation to participate in this event, please contact the event sponsor or the Texas Law Special Events Office at specialevents@law.utexas.edu no later than seven business days prior to the event.
X-ALT-DESC;FMTTYPE=text/html:<p>Professor Wendy A. Bach of the University of Tennessee College of Law will discuss her new book, Prosecuting Poverty, Criminalizing Care, which focuses on Tennessee’s fetal assault law as an example of the criminalization of care in poor communities. Professor Aziza Ahmed of Boston University School of Law will respond. Rapoport Center co-director Professor Karen Engle will moderate.
   
  Wendy Bach has dedicated her career to representing children and families in poor communities in a variety of legal settings. Her scholarship focuses on the interaction between systems of support and care and systems of punishment in poor communities.
   
  Aziza Ahmed's scholarship examines the intersection of law, politics, and science in the ﬁelds of constitutional, criminal, health, and family law.</p>
  <p>Register here: <a href="https://utexas.zoom.us/webinar/register/WN_b-CsX9fdStWRqgruIzwWEg?mc_cid=f2e5536532&amp;mc_eid=a1d623954b">https://utexas.zoom.us/webinar/register/WN_b-CsX9fdStWRqgruIzwWEg?mc_cid=f2e5536532&amp;mc_eid=a1d623954b</a></p><p>If you need an accommodation to participate in this event, please contact the event
                                          event sponsor or the Texas Law Special Events Office at <a href="mailto:specialevents@law.utexas.edu">specialevents@law.utexas.edu</a> no later than seven business days prior to the event.</p>
CATEGORIES:Panel Discussion / Speaker Series
LOCATION:Zoom webinar
URL:http://law.utexas.edu/calendar/2022/11/29/71787/
CLASS:PUBLIC
STATUS:CONFIRMED
COMMENT:carolinehahn@austin.utexas.edu
END:VEVENT
END:VCALENDAR