BEGIN:VCALENDAR
VERSION:2.0
PRODID:-//UNIVERSITY OF TEXAS SCHOOL OF LAW//NONSGML Events Calendar v1.0//EN
X-WR-TIMEZONE:America/Chicago
BEGIN:VTIMEZONE
TZID:US/Central
X-LIC-LOCATION:America/Chicago
BEGIN:DAYLIGHT
TZOFFSETFROM:-0600
TZOFFSETTO:-0500
TZNAME:CDT
DTSTART:19700308T020000
RRULE:FREQ=YEARLY;BYMONTH=3;BYDAY=2SU
END:DAYLIGHT
BEGIN:STANDARD
TZOFFSETFROM:-0500
TZOFFSETTO:-0600
TZNAME:CST
DTSTART:19701101T020000
RRULE:FREQ=YEARLY;BYMONTH=11;BYDAY=1SU
END:STANDARD
END:VTIMEZONE
BEGIN:VEVENT
DTSTART;TZID=US/Central:20230118T120000
DTEND;VALUE=DATE-TIME;TZID=US/Central:20230118T131500

DTSTAMP:20260419T173600Z
CREATED:20230104T220400Z
LAST-MODIFIED:20230106T212300Z
UID:20230118T120000-72494@law.utexas.edu
SUMMARY:"Finding and Funding" Human Rights Jobs
DESCRIPTION:<p>Attention!
  •	Are you a 1L or 2L who is looking for a summer job involving human rights or social justice? 
  •	Do you have a summer placement at a human rights organization, but need to find external funding? </p>
  <p>Come to the Rapoport Center’s "Finding and Funding" Human Rights Jobs: Info Session on January 18! Rapoport Center staff and former Rapoport Center Summer Fellows will give tips and tricks on finding human rights positions before the summer. The session will also outline the application process for the Rapoport Center’s Summer Fellowship Funding, including the Letelier and Moffitt Endowed Presidential Scholarship in Law and the Charles Moyer Human Rights Fellowship (application deadline March 13, 2023). 
  </p>\n\nIf you need an accommodation to participate in this event, please contact the event sponsor or the Texas Law Special Events Office at specialevents@law.utexas.edu no later than seven business days prior to the event.
X-ALT-DESC;FMTTYPE=text/html:<p>Attention!
  •	Are you a 1L or 2L who is looking for a summer job involving human rights or social justice? 
  •	Do you have a summer placement at a human rights organization, but need to find external funding? </p>
  <p>Come to the Rapoport Center’s "Finding and Funding" Human Rights Jobs: Info Session on January 18! Rapoport Center staff and former Rapoport Center Summer Fellows will give tips and tricks on finding human rights positions before the summer. The session will also outline the application process for the Rapoport Center’s Summer Fellowship Funding, including the Letelier and Moffitt Endowed Presidential Scholarship in Law and the Charles Moyer Human Rights Fellowship (application deadline March 13, 2023). 
  </p><p>If you need an accommodation to participate in this event, please contact the event
                                          event sponsor or the Texas Law Special Events Office at <a href="mailto:specialevents@law.utexas.edu">specialevents@law.utexas.edu</a> no later than seven business days prior to the event.</p>
CATEGORIES:Panel Discussion / Speaker Series
LOCATION:TNH 3.125 - Denius Classroom
URL:http://law.utexas.edu/calendar/2023/01/18/72494/
CLASS:PUBLIC
STATUS:CONFIRMED
COMMENT:cchristiancy@law.utexas.edu
END:VEVENT
END:VCALENDAR