BEGIN:VCALENDAR
VERSION:2.0
PRODID:-//UNIVERSITY OF TEXAS SCHOOL OF LAW//NONSGML Events Calendar v1.0//EN
X-WR-TIMEZONE:America/Chicago
BEGIN:VTIMEZONE
TZID:US/Central
X-LIC-LOCATION:America/Chicago
BEGIN:DAYLIGHT
TZOFFSETFROM:-0600
TZOFFSETTO:-0500
TZNAME:CDT
DTSTART:19700308T020000
RRULE:FREQ=YEARLY;BYMONTH=3;BYDAY=2SU
END:DAYLIGHT
BEGIN:STANDARD
TZOFFSETFROM:-0500
TZOFFSETTO:-0600
TZNAME:CST
DTSTART:19701101T020000
RRULE:FREQ=YEARLY;BYMONTH=11;BYDAY=1SU
END:STANDARD
END:VTIMEZONE
BEGIN:VEVENT
DTSTART;TZID=US/Central:20230127T120000
DTEND;VALUE=DATE-TIME;TZID=US/Central:20230127T130000

DTSTAMP:20260419T181900Z
CREATED:20220830T174100Z
LAST-MODIFIED:20230109T200200Z
UID:20230127T120000-70227@law.utexas.edu
SUMMARY:Revisiting the Right to Assembly
DESCRIPTION:<p>The right to assembly has received renewed interest in recent years. Professor John Inazu (Washington University School of Law), one of the nation’s leading experts on the topic, and Dean Bobby Chesney (Texas Law) will discuss the most recent developments in the law and where it should go. </p>
  <p>Lunch will be offered. Please visit the link to learn more and RSVP. We hope you join us!
  </p>\n\nIf you need an accommodation to participate in this event, please contact the event sponsor or the Texas Law Special Events Office at specialevents@law.utexas.edu no later than seven business days prior to the event.
X-ALT-DESC;FMTTYPE=text/html:<p>The right to assembly has received renewed interest in recent years. Professor John Inazu (Washington University School of Law), one of the nation’s leading experts on the topic, and Dean Bobby Chesney (Texas Law) will discuss the most recent developments in the law and where it should go. </p>
  <p>Lunch will be offered. Please visit the link to learn more and RSVP. We hope you join us!
  </p><p>If you need an accommodation to participate in this event, please contact the event
                                          event sponsor or the Texas Law Special Events Office at <a href="mailto:specialevents@law.utexas.edu">specialevents@law.utexas.edu</a> no later than seven business days prior to the event.</p>
CATEGORIES:Panel Discussion / Speaker Series
LOCATION:TNH 2.140 - Wright Classroom
URL:http://law.utexas.edu/calendar/2023/01/27/70227/
CLASS:PUBLIC
STATUS:CONFIRMED

END:VEVENT
END:VCALENDAR