BEGIN:VCALENDAR
VERSION:2.0
PRODID:-//UNIVERSITY OF TEXAS SCHOOL OF LAW//NONSGML Events Calendar v1.0//EN
X-WR-TIMEZONE:America/Chicago
BEGIN:VTIMEZONE
TZID:US/Central
X-LIC-LOCATION:America/Chicago
BEGIN:DAYLIGHT
TZOFFSETFROM:-0600
TZOFFSETTO:-0500
TZNAME:CDT
DTSTART:19700308T020000
RRULE:FREQ=YEARLY;BYMONTH=3;BYDAY=2SU
END:DAYLIGHT
BEGIN:STANDARD
TZOFFSETFROM:-0500
TZOFFSETTO:-0600
TZNAME:CST
DTSTART:19701101T020000
RRULE:FREQ=YEARLY;BYMONTH=11;BYDAY=1SU
END:STANDARD
END:VTIMEZONE
BEGIN:VEVENT
DTSTART;TZID=US/Central:20230130T160000
DTEND;VALUE=DATE-TIME;TZID=US/Central:20230130T180000

DTSTAMP:20260419T172000Z
CREATED:20230109T171000Z
LAST-MODIFIED:20230109T171000Z
UID:20230130T160000-72545@law.utexas.edu
SUMMARY:Race, Housing, and Justice
DESCRIPTION:<p>This roundtable discussion, the first event of the Rapoport Center's Spring 2023 Cultures of Environmental Justice colloquium and co-sponsored by Planet Texas 2050, will feature local activists and organizations discussing the ongoing justice implications of Winter Storm Uri.</p>\n\nIf you need an accommodation to participate in this event, please contact the event sponsor or the Texas Law Special Events Office at specialevents@law.utexas.edu no later than seven business days prior to the event.
X-ALT-DESC;FMTTYPE=text/html:<p>This roundtable discussion, the first event of the Rapoport Center's Spring 2023 Cultures of Environmental Justice colloquium and co-sponsored by Planet Texas 2050, will feature local activists and organizations discussing the ongoing justice implications of Winter Storm Uri.</p><p>If you need an accommodation to participate in this event, please contact the event
                                          event sponsor or the Texas Law Special Events Office at <a href="mailto:specialevents@law.utexas.edu">specialevents@law.utexas.edu</a> no later than seven business days prior to the event.</p>
CATEGORIES:Panel Discussion / Speaker Series
LOCATION:TNH 2.111 - Sheffield-Massey Room
URL:http://law.utexas.edu/calendar/2023/01/30/72545/
CLASS:PUBLIC
STATUS:CONFIRMED
COMMENT:carolinehahn@austin.utexas.edu
END:VEVENT
END:VCALENDAR