BEGIN:VCALENDAR
VERSION:2.0
PRODID:-//UNIVERSITY OF TEXAS SCHOOL OF LAW//NONSGML Events Calendar v1.0//EN
X-WR-TIMEZONE:America/Chicago
BEGIN:VTIMEZONE
TZID:US/Central
X-LIC-LOCATION:America/Chicago
BEGIN:DAYLIGHT
TZOFFSETFROM:-0600
TZOFFSETTO:-0500
TZNAME:CDT
DTSTART:19700308T020000
RRULE:FREQ=YEARLY;BYMONTH=3;BYDAY=2SU
END:DAYLIGHT
BEGIN:STANDARD
TZOFFSETFROM:-0500
TZOFFSETTO:-0600
TZNAME:CST
DTSTART:19701101T020000
RRULE:FREQ=YEARLY;BYMONTH=11;BYDAY=1SU
END:STANDARD
END:VTIMEZONE
BEGIN:VEVENT
DTSTART;TZID=US/Central:20230216T154500
DTEND;VALUE=DATE-TIME;TZID=US/Central:20230216T173000

DTSTAMP:20260419T122200Z
CREATED:20230201T174000Z
LAST-MODIFIED:20230201T174600Z
UID:20230216T154500-72945@law.utexas.edu
SUMMARY:Shape and Direction of the Death Penalty
DESCRIPTION:<p>This event will feature Harvard Law Professor Carol Steiker, as well as UT Law Professors Lee Kovarsky, Jim Marcus, Thea Posel, Raoul Schonemann, and Jordan Steiker. It will examine, from multiple angles, the operation of the modern Texas and federal death penalties. Professor Kovarsky will discuss the thirteen "Trump Executions" that took place during the last six months of his administration. Professors Marcus, Posel, and Schonemann will discuss recent developments in Texas capital punishment, with emphasis on the case of Terence Andrus. Professors Carol and Jordan Steiker will address the future of the American death penalty. Drinks and light snacks will be provided.</p>\n\nIf you need an accommodation to participate in this event, please contact the event sponsor or the Texas Law Special Events Office at specialevents@law.utexas.edu no later than seven business days prior to the event.
X-ALT-DESC;FMTTYPE=text/html:<p>This event will feature Harvard Law Professor Carol Steiker, as well as UT Law Professors Lee Kovarsky, Jim Marcus, Thea Posel, Raoul Schonemann, and Jordan Steiker. It will examine, from multiple angles, the operation of the modern Texas and federal death penalties. Professor Kovarsky will discuss the thirteen "Trump Executions" that took place during the last six months of his administration. Professors Marcus, Posel, and Schonemann will discuss recent developments in Texas capital punishment, with emphasis on the case of Terence Andrus. Professors Carol and Jordan Steiker will address the future of the American death penalty. Drinks and light snacks will be provided.</p><p>If you need an accommodation to participate in this event, please contact the event
                                          event sponsor or the Texas Law Special Events Office at <a href="mailto:specialevents@law.utexas.edu">specialevents@law.utexas.edu</a> no later than seven business days prior to the event.</p>
CATEGORIES:Panel Discussion / Speaker Series
LOCATION:CCJ 2.306 - Eidman Courtroom
URL:http://law.utexas.edu/calendar/2023/02/16/72945/
CLASS:PUBLIC
STATUS:CONFIRMED

END:VEVENT
END:VCALENDAR