BEGIN:VCALENDAR
VERSION:2.0
PRODID:-//UNIVERSITY OF TEXAS SCHOOL OF LAW//NONSGML Events Calendar v1.0//EN
X-WR-TIMEZONE:America/Chicago
BEGIN:VTIMEZONE
TZID:US/Central
X-LIC-LOCATION:America/Chicago
BEGIN:DAYLIGHT
TZOFFSETFROM:-0600
TZOFFSETTO:-0500
TZNAME:CDT
DTSTART:19700308T020000
RRULE:FREQ=YEARLY;BYMONTH=3;BYDAY=2SU
END:DAYLIGHT
BEGIN:STANDARD
TZOFFSETFROM:-0500
TZOFFSETTO:-0600
TZNAME:CST
DTSTART:19701101T020000
RRULE:FREQ=YEARLY;BYMONTH=11;BYDAY=1SU
END:STANDARD
END:VTIMEZONE
BEGIN:VEVENT
DTSTART;TZID=US/Central:20230218T141500


DTSTAMP:20260419T155400Z
CREATED:20221222T204700Z
LAST-MODIFIED:20230113T173800Z
UID:20230218T141500-72406@law.utexas.edu
SUMMARY:#FreeTheHair
DESCRIPTION:<p>Saturday, February 18 at 2:15pm in Eidman Courtroom. Reception to follow. RSVP here: <a href="https://utexas.qualtrics.com/jfe/form/SV_8ukPmitI1TwYj1I">https://utexas.qualtrics.com/jfe/form/SV_8ukPmitI1TwYj1I</a> </p>
  <p>Texas Law’s Office for Equity and Inclusion invites students, faculty, staff, and the general public to #FreeTheHair: Locking Black Hair to Civil Rights Movements with Professor D. Wendy Greene (Drexel University Thomas R. Kline School of Law). Founder of the #FreeTheHair movement and a legal architect of the federal CROWN Act alongside parallel civil rights legislation, Professor Greene will discuss her legal scholarship and public advocacy combating race-based discrimination of African descendants when donning natural hairstyles like twists, braids, Afros and locs. As one of the nation's leading legal experts on "grooming codes discrimination" and Director of Kline Law's Center for Law, Policy, &amp; Social Action, Professor Greene will also explore landmark U.S. legal reforms her scholarly activism is shaping, which redress this systematic form of racial discrimination and are transforming civil rights laws and discourse globally.  </p>
  <p>This event has been accredited by the State Bar of Texas for 1.00 hour of CLE credit. </p>
  <p>Special thanks to the Diverse Voices Speaker Series Founding Sponsor, Vinson &amp; Elkins LLP, and Partner Sponsor, Greenberg Traurig LLP.
  </p>\n\nIf you need an accommodation to participate in this event, please contact the event sponsor or the Texas Law Special Events Office at specialevents@law.utexas.edu no later than seven business days prior to the event.
X-ALT-DESC;FMTTYPE=text/html:<p>Saturday, February 18 at 2:15pm in Eidman Courtroom. Reception to follow. RSVP here: <a href="https://utexas.qualtrics.com/jfe/form/SV_8ukPmitI1TwYj1I">https://utexas.qualtrics.com/jfe/form/SV_8ukPmitI1TwYj1I</a> </p>
  <p>Texas Law’s Office for Equity and Inclusion invites students, faculty, staff, and the general public to #FreeTheHair: Locking Black Hair to Civil Rights Movements with Professor D. Wendy Greene (Drexel University Thomas R. Kline School of Law). Founder of the #FreeTheHair movement and a legal architect of the federal CROWN Act alongside parallel civil rights legislation, Professor Greene will discuss her legal scholarship and public advocacy combating race-based discrimination of African descendants when donning natural hairstyles like twists, braids, Afros and locs. As one of the nation's leading legal experts on "grooming codes discrimination" and Director of Kline Law's Center for Law, Policy, &amp; Social Action, Professor Greene will also explore landmark U.S. legal reforms her scholarly activism is shaping, which redress this systematic form of racial discrimination and are transforming civil rights laws and discourse globally.  </p>
  <p>This event has been accredited by the State Bar of Texas for 1.00 hour of CLE credit. </p>
  <p>Special thanks to the Diverse Voices Speaker Series Founding Sponsor, Vinson &amp; Elkins LLP, and Partner Sponsor, Greenberg Traurig LLP.
  </p><p>If you need an accommodation to participate in this event, please contact the event
                                          event sponsor or the Texas Law Special Events Office at <a href="mailto:specialevents@law.utexas.edu">specialevents@law.utexas.edu</a> no later than seven business days prior to the event.</p>
CATEGORIES:Panel Discussion / Speaker Series
LOCATION:CCJ 2.306 - Eidman Courtroom
URL:http://law.utexas.edu/calendar/2023/02/18/72406/
CLASS:PUBLIC
STATUS:CONFIRMED

END:VEVENT
END:VCALENDAR