BEGIN:VCALENDAR
VERSION:2.0
PRODID:-//UNIVERSITY OF TEXAS SCHOOL OF LAW//NONSGML Events Calendar v1.0//EN
X-WR-TIMEZONE:America/Chicago
BEGIN:VTIMEZONE
TZID:US/Central
X-LIC-LOCATION:America/Chicago
BEGIN:DAYLIGHT
TZOFFSETFROM:-0600
TZOFFSETTO:-0500
TZNAME:CDT
DTSTART:19700308T020000
RRULE:FREQ=YEARLY;BYMONTH=3;BYDAY=2SU
END:DAYLIGHT
BEGIN:STANDARD
TZOFFSETFROM:-0500
TZOFFSETTO:-0600
TZNAME:CST
DTSTART:19701101T020000
RRULE:FREQ=YEARLY;BYMONTH=11;BYDAY=1SU
END:STANDARD
END:VTIMEZONE
BEGIN:VEVENT
DTSTART;TZID=US/Central:20230223T120000
DTEND;VALUE=DATE-TIME;TZID=US/Central:20230223T130000

DTSTAMP:20260419T173000Z
CREATED:20230125T211200Z
LAST-MODIFIED:20230220T235600Z
UID:20230223T120000-72826@law.utexas.edu
SUMMARY:Government Honors Programs
DESCRIPTION:<p>Please RSVP by Wednesday, February 22, on <a href="https://law-utexas-csm.symplicity.com/students/index.php?s=event&amp;ss=ws&amp;_ksl=1&amp;mode=list">Symplicity</a>. Zoom link will then be sent before the event.</p>
  <p>Learn more about the opportunities available through Government Honors programs and the application procedures for these prestigious programs from a panel of attorneys who started their careers through various honors programs. </p>
  <p>Panelists include Nicole Steinberg, 3L, 2023 U.S. Department of Labor Honors Attorney; Josh Gold ’13, former U.S. Department of Housing and Urban Development Honors Attorney; David Stevenson ’18, former Office of the Comptroller of the Currency Honors Attorney; and Caroline Barrow ’18, former Department of Justice Honors Attorney.</p>\n\nIf you need an accommodation to participate in this event, please contact the event sponsor or the Texas Law Special Events Office at specialevents@law.utexas.edu no later than seven business days prior to the event.
X-ALT-DESC;FMTTYPE=text/html:<p>Please RSVP by Wednesday, February 22, on <a href="https://law-utexas-csm.symplicity.com/students/index.php?s=event&amp;ss=ws&amp;_ksl=1&amp;mode=list">Symplicity</a>. Zoom link will then be sent before the event.</p>
  <p>Learn more about the opportunities available through Government Honors programs and the application procedures for these prestigious programs from a panel of attorneys who started their careers through various honors programs. </p>
  <p>Panelists include Nicole Steinberg, 3L, 2023 U.S. Department of Labor Honors Attorney; Josh Gold ’13, former U.S. Department of Housing and Urban Development Honors Attorney; David Stevenson ’18, former Office of the Comptroller of the Currency Honors Attorney; and Caroline Barrow ’18, former Department of Justice Honors Attorney.</p><p>If you need an accommodation to participate in this event, please contact the event
                                          event sponsor or the Texas Law Special Events Office at <a href="mailto:specialevents@law.utexas.edu">specialevents@law.utexas.edu</a> no later than seven business days prior to the event.</p>

LOCATION:Virtual
URL:http://law.utexas.edu/calendar/2023/02/23/72826/
CLASS:PUBLIC
STATUS:CONFIRMED
COMMENT:Please contact Kaycee Crisp, Career Counselor, at  <a href="mailto:kcrisp@law.utexas.edu">kcrisp@law.utexas.edu</a>.
END:VEVENT
END:VCALENDAR