BEGIN:VCALENDAR
VERSION:2.0
PRODID:-//UNIVERSITY OF TEXAS SCHOOL OF LAW//NONSGML Events Calendar v1.0//EN
X-WR-TIMEZONE:America/Chicago
BEGIN:VTIMEZONE
TZID:US/Central
X-LIC-LOCATION:America/Chicago
BEGIN:DAYLIGHT
TZOFFSETFROM:-0600
TZOFFSETTO:-0500
TZNAME:CDT
DTSTART:19700308T020000
RRULE:FREQ=YEARLY;BYMONTH=3;BYDAY=2SU
END:DAYLIGHT
BEGIN:STANDARD
TZOFFSETFROM:-0500
TZOFFSETTO:-0600
TZNAME:CST
DTSTART:19701101T020000
RRULE:FREQ=YEARLY;BYMONTH=11;BYDAY=1SU
END:STANDARD
END:VTIMEZONE
BEGIN:VEVENT
DTSTART;TZID=US/Central:20230306T113000
DTEND;VALUE=DATE-TIME;TZID=US/Central:20230306T133000

DTSTAMP:20260419T150700Z
CREATED:20230221T235500Z
LAST-MODIFIED:20230228T210500Z
UID:20230306T113000-73153@law.utexas.edu
SUMMARY:King &amp; Spalding | 1L Lunch Meet + Greet
DESCRIPTION:<p>1Ls: Stop by to meet with attorneys from <a href="https://www.kslaw.com/">King &amp; Spalding</a> to learn more about their firm and grab lunch from ThunderCloud Subs!</p>\n\nIf you need an accommodation to participate in this event, please contact the event sponsor or the Texas Law Special Events Office at specialevents@law.utexas.edu no later than seven business days prior to the event.
X-ALT-DESC;FMTTYPE=text/html:<p>1Ls: Stop by to meet with attorneys from <a href="https://www.kslaw.com/">King &amp; Spalding</a> to learn more about their firm and grab lunch from ThunderCloud Subs!</p><p>If you need an accommodation to participate in this event, please contact the event
                                          event sponsor or the Texas Law Special Events Office at <a href="mailto:specialevents@law.utexas.edu">specialevents@law.utexas.edu</a> no later than seven business days prior to the event.</p>
CATEGORIES:Lunch
LOCATION:TNH 2.100 - Susman Godfrey Atrium
URL:http://law.utexas.edu/calendar/2023/03/06/73153/
CLASS:PUBLIC
STATUS:CONFIRMED
COMMENT:Please contact Deb Freeman in the CSO at <a href="mailto:dfreeman@law.utexas.edu">dfreeman@law.utexas.edu</a>.
END:VEVENT
END:VCALENDAR