BEGIN:VCALENDAR
VERSION:2.0
PRODID:-//UNIVERSITY OF TEXAS SCHOOL OF LAW//NONSGML Events Calendar v1.0//EN
X-WR-TIMEZONE:America/Chicago
BEGIN:VTIMEZONE
TZID:US/Central
X-LIC-LOCATION:America/Chicago
BEGIN:DAYLIGHT
TZOFFSETFROM:-0600
TZOFFSETTO:-0500
TZNAME:CDT
DTSTART:19700308T020000
RRULE:FREQ=YEARLY;BYMONTH=3;BYDAY=2SU
END:DAYLIGHT
BEGIN:STANDARD
TZOFFSETFROM:-0500
TZOFFSETTO:-0600
TZNAME:CST
DTSTART:19701101T020000
RRULE:FREQ=YEARLY;BYMONTH=11;BYDAY=1SU
END:STANDARD
END:VTIMEZONE
BEGIN:VEVENT
DTSTART;TZID=US/Central:20230309T121500
DTEND;VALUE=DATE-TIME;TZID=US/Central:20230309T133000

DTSTAMP:20260419T185600Z
CREATED:20230216T163800Z
LAST-MODIFIED:20230216T163800Z
UID:20230309T121500-73113@law.utexas.edu
SUMMARY:Evolution of Nuclear Security &amp; Ukraine
DESCRIPTION:<p>On Thursday, March 9, the Strauss Center welcomes Scott Roecker, Vice President, Nuclear Materials Security, and the Nuclear Threat Initiative (NTI) for a talk on “The Evolution of Nuclear Security and Implications of Russia’s Invasion of Ukraine.” This talk will be held at the LBJ School of Public Affairs as part of the Strauss Center’s Brumley Speaker Series.</p>
  <p>In his talk, Scott will talk broadly about the history of nuclear security, including the Cooperative Threat Reduction program, the Nuclear Security Summit process of the Obama Era, and how Russia’s invasion of Ukraine is changing how we think about nuclear security.</p>
  <p>This event will be free and open to the public and lunch will be provided. For more information about this event, contact Brittany Horton at brittany.horton@austin.utexas.edu.</p>\n\nIf you need an accommodation to participate in this event, please contact the event sponsor or the Texas Law Special Events Office at specialevents@law.utexas.edu no later than seven business days prior to the event.
X-ALT-DESC;FMTTYPE=text/html:<p>On Thursday, March 9, the Strauss Center welcomes Scott Roecker, Vice President, Nuclear Materials Security, and the Nuclear Threat Initiative (NTI) for a talk on “The Evolution of Nuclear Security and Implications of Russia’s Invasion of Ukraine.” This talk will be held at the LBJ School of Public Affairs as part of the Strauss Center’s Brumley Speaker Series.</p>
  <p>In his talk, Scott will talk broadly about the history of nuclear security, including the Cooperative Threat Reduction program, the Nuclear Security Summit process of the Obama Era, and how Russia’s invasion of Ukraine is changing how we think about nuclear security.</p>
  <p>This event will be free and open to the public and lunch will be provided. For more information about this event, contact Brittany Horton at brittany.horton@austin.utexas.edu.</p><p>If you need an accommodation to participate in this event, please contact the event
                                          event sponsor or the Texas Law Special Events Office at <a href="mailto:specialevents@law.utexas.edu">specialevents@law.utexas.edu</a> no later than seven business days prior to the event.</p>

LOCATION:SRH 3.122, LBJ School
URL:http://law.utexas.edu/calendar/2023/03/09/73113/
CLASS:PUBLIC
STATUS:CONFIRMED

END:VEVENT
END:VCALENDAR