BEGIN:VCALENDAR
VERSION:2.0
PRODID:-//UNIVERSITY OF TEXAS SCHOOL OF LAW//NONSGML Events Calendar v1.0//EN
X-WR-TIMEZONE:America/Chicago
BEGIN:VTIMEZONE
TZID:US/Central
X-LIC-LOCATION:America/Chicago
BEGIN:DAYLIGHT
TZOFFSETFROM:-0600
TZOFFSETTO:-0500
TZNAME:CDT
DTSTART:19700308T020000
RRULE:FREQ=YEARLY;BYMONTH=3;BYDAY=2SU
END:DAYLIGHT
BEGIN:STANDARD
TZOFFSETFROM:-0500
TZOFFSETTO:-0600
TZNAME:CST
DTSTART:19701101T020000
RRULE:FREQ=YEARLY;BYMONTH=11;BYDAY=1SU
END:STANDARD
END:VTIMEZONE
BEGIN:VEVENT
DTSTART;TZID=US/Central:20230321T160000
DTEND;VALUE=DATE-TIME;TZID=US/Central:20230321T173000

DTSTAMP:20260419T210300Z
CREATED:20230302T181300Z
LAST-MODIFIED:20230307T235200Z
UID:20230321T160000-73305@law.utexas.edu
SUMMARY:Water &amp; Ancestral Knowledge in Chile
DESCRIPTION:<p>In this talk, Chilean legal scholar Amaya Alvez, who served as an elected member of the 2021-22 Chilean Constitutional Convention, argues that Chile’s Constitutions have long enabled natural resource governance that perpetuates (neo)colonial dispossession and makes Indigenous peoples invisible. Focusing on water, she demonstrates that Chilean constitutional law fails not only to recognize collective rights that are guaranteed under international law but to take seriously the cosmological vision of water held by Indigenous peoples. Chile’s 1980 Constitution, for instance, preserves the European, colonizing, and standardizing view of waters in Mapuche territory. Alvez illustrates the ongoing coloniality of norms, knowledge, and of livelihoods through examination of competing rationalities that emerge in conflicts between Indigenous communities and supporters of extractive projects.</p>
  <p>Dr. Amaya Alvez is a Professor of Law at the University of Concepción in Concepción, Chile. Alvez is a former Member of the Chilean Constitutional Convention, where she developed a constitutional approach to the decentralization of Chile. Alvez is an activist and human rights defender and is an active member of multiple organizations promoting environmental, women's, and Indigenous rights. Alvez's research focuses on Constitutional Law, Human Rights, water regulation and Indigenous Peoples.</p>\n\nIf you need an accommodation to participate in this event, please contact the event sponsor or the Texas Law Special Events Office at specialevents@law.utexas.edu no later than seven business days prior to the event.
X-ALT-DESC;FMTTYPE=text/html:<p>In this talk, Chilean legal scholar Amaya Alvez, who served as an elected member of the 2021-22 Chilean Constitutional Convention, argues that Chile’s Constitutions have long enabled natural resource governance that perpetuates (neo)colonial dispossession and makes Indigenous peoples invisible. Focusing on water, she demonstrates that Chilean constitutional law fails not only to recognize collective rights that are guaranteed under international law but to take seriously the cosmological vision of water held by Indigenous peoples. Chile’s 1980 Constitution, for instance, preserves the European, colonizing, and standardizing view of waters in Mapuche territory. Alvez illustrates the ongoing coloniality of norms, knowledge, and of livelihoods through examination of competing rationalities that emerge in conflicts between Indigenous communities and supporters of extractive projects.</p>
  <p>Dr. Amaya Alvez is a Professor of Law at the University of Concepción in Concepción, Chile. Alvez is a former Member of the Chilean Constitutional Convention, where she developed a constitutional approach to the decentralization of Chile. Alvez is an activist and human rights defender and is an active member of multiple organizations promoting environmental, women's, and Indigenous rights. Alvez's research focuses on Constitutional Law, Human Rights, water regulation and Indigenous Peoples.</p><p>If you need an accommodation to participate in this event, please contact the event
                                          event sponsor or the Texas Law Special Events Office at <a href="mailto:specialevents@law.utexas.edu">specialevents@law.utexas.edu</a> no later than seven business days prior to the event.</p>
CATEGORIES:Panel Discussion / Speaker Series
LOCATION:TNH 2.111 - Sheffield-Massey Room
URL:http://law.utexas.edu/calendar/2023/03/21/73305/
CLASS:PUBLIC
STATUS:CONFIRMED
COMMENT:quinn.ouellettekray@law.utexas.edu
END:VEVENT
END:VCALENDAR