BEGIN:VCALENDAR
VERSION:2.0
PRODID:-//UNIVERSITY OF TEXAS SCHOOL OF LAW//NONSGML Events Calendar v1.0//EN
X-WR-TIMEZONE:America/Chicago
BEGIN:VTIMEZONE
TZID:US/Central
X-LIC-LOCATION:America/Chicago
BEGIN:DAYLIGHT
TZOFFSETFROM:-0600
TZOFFSETTO:-0500
TZNAME:CDT
DTSTART:19700308T020000
RRULE:FREQ=YEARLY;BYMONTH=3;BYDAY=2SU
END:DAYLIGHT
BEGIN:STANDARD
TZOFFSETFROM:-0500
TZOFFSETTO:-0600
TZNAME:CST
DTSTART:19701101T020000
RRULE:FREQ=YEARLY;BYMONTH=11;BYDAY=1SU
END:STANDARD
END:VTIMEZONE
BEGIN:VEVENT
DTSTART;TZID=US/Central:20230406T113000
DTEND;VALUE=DATE-TIME;TZID=US/Central:20230406T160000

DTSTAMP:20260419T141900Z
CREATED:20230320T214400Z
LAST-MODIFIED:20230320T214400Z
UID:20230406T113000-73566@law.utexas.edu
SUMMARY:Aequalitas: A Confer. About Women in Law
DESCRIPTION:<p>The Center for Women in Law is partnering with Texas Law Review and the Women’s Law Caucus to host Aequalitas: A Conference About Women in Law. This half-day conference will focus on issues facing students as they transition to the legal workforce, and the intended audience is 2Ls and 3Ls. The event is scheduled for Thursday, April 6th, at the University of Texas Club from 12:00 – 4:00 pm, with a reception afterward. Registration is required.</p>\n\nIf you need an accommodation to participate in this event, please contact the event sponsor or the Texas Law Special Events Office at specialevents@law.utexas.edu no later than seven business days prior to the event.
X-ALT-DESC;FMTTYPE=text/html:<p>The Center for Women in Law is partnering with Texas Law Review and the Women’s Law Caucus to host Aequalitas: A Conference About Women in Law. This half-day conference will focus on issues facing students as they transition to the legal workforce, and the intended audience is 2Ls and 3Ls. The event is scheduled for Thursday, April 6th, at the University of Texas Club from 12:00 – 4:00 pm, with a reception afterward. Registration is required.</p><p>If you need an accommodation to participate in this event, please contact the event
                                          event sponsor or the Texas Law Special Events Office at <a href="mailto:specialevents@law.utexas.edu">specialevents@law.utexas.edu</a> no later than seven business days prior to the event.</p>
CATEGORIES:Panel Discussion / Speaker Series
LOCATION:University of Texas Club
URL:http://law.utexas.edu/calendar/2023/04/06/73566/
CLASS:PUBLIC
STATUS:CONFIRMED
COMMENT:https://law.utexas.edu/cwil/events/aequalitas-a-conference-about-women-in-law/
END:VEVENT
END:VCALENDAR