BEGIN:VCALENDAR
VERSION:2.0
PRODID:-//UNIVERSITY OF TEXAS SCHOOL OF LAW//NONSGML Events Calendar v1.0//EN
X-WR-TIMEZONE:America/Chicago
BEGIN:VTIMEZONE
TZID:US/Central
X-LIC-LOCATION:America/Chicago
BEGIN:DAYLIGHT
TZOFFSETFROM:-0600
TZOFFSETTO:-0500
TZNAME:CDT
DTSTART:19700308T020000
RRULE:FREQ=YEARLY;BYMONTH=3;BYDAY=2SU
END:DAYLIGHT
BEGIN:STANDARD
TZOFFSETFROM:-0500
TZOFFSETTO:-0600
TZNAME:CST
DTSTART:19701101T020000
RRULE:FREQ=YEARLY;BYMONTH=11;BYDAY=1SU
END:STANDARD
END:VTIMEZONE
BEGIN:VEVENT
DTSTART;TZID=US/Central:20230413T180000
DTEND;VALUE=DATE-TIME;TZID=US/Central:20230413T203000

DTSTAMP:20260419T120200Z
CREATED:20221222T004600Z
LAST-MODIFIED:20230405T204800Z
UID:20230413T180000-72389@law.utexas.edu
SUMMARY:Advocacy End of Year Banquet
DESCRIPTION:<p>Board of Advocates and members of the Advocacy Department are welcome to attend our End of the Year Spring Banquet at the UT Club for dinner and awards ceremony. RSVP via invitation required. Please contact bayleewang@utexas.edu regarding potential attendance.</p>\n\nIf you need an accommodation to participate in this event, please contact the event sponsor or the Texas Law Special Events Office at specialevents@law.utexas.edu no later than seven business days prior to the event.
X-ALT-DESC;FMTTYPE=text/html:<p>Board of Advocates and members of the Advocacy Department are welcome to attend our End of the Year Spring Banquet at the UT Club for dinner and awards ceremony. RSVP via invitation required. Please contact bayleewang@utexas.edu regarding potential attendance.</p><p>If you need an accommodation to participate in this event, please contact the event
                                          event sponsor or the Texas Law Special Events Office at <a href="mailto:specialevents@law.utexas.edu">specialevents@law.utexas.edu</a> no later than seven business days prior to the event.</p>
CATEGORIES:Reception

URL:http://law.utexas.edu/calendar/2023/04/13/72389/
CLASS:PUBLIC
STATUS:CONFIRMED

END:VEVENT
END:VCALENDAR