BEGIN:VCALENDAR
VERSION:2.0
PRODID:-//UNIVERSITY OF TEXAS SCHOOL OF LAW//NONSGML Events Calendar v1.0//EN
X-WR-TIMEZONE:America/Chicago
BEGIN:VTIMEZONE
TZID:US/Central
X-LIC-LOCATION:America/Chicago
BEGIN:DAYLIGHT
TZOFFSETFROM:-0600
TZOFFSETTO:-0500
TZNAME:CDT
DTSTART:19700308T020000
RRULE:FREQ=YEARLY;BYMONTH=3;BYDAY=2SU
END:DAYLIGHT
BEGIN:STANDARD
TZOFFSETFROM:-0500
TZOFFSETTO:-0600
TZNAME:CST
DTSTART:19701101T020000
RRULE:FREQ=YEARLY;BYMONTH=11;BYDAY=1SU
END:STANDARD
END:VTIMEZONE
BEGIN:VEVENT
DTSTART;TZID=US/Central:20230902T110000
DTEND;VALUE=DATE-TIME;TZID=US/Central:20230902T143000

DTSTAMP:20260419T185600Z
CREATED:20230530T214800Z
LAST-MODIFIED:20230827T072800Z
UID:20230902T110000-74166@law.utexas.edu
SUMMARY:TJOGEL/TLF Tailgate
DESCRIPTION:<p>Join TLF and TJOGEL at our tailgate before the UT/Rice home game! The tailgate starts at 11 am on George's Patio and will go until the start of the football game (kickoff is at 2:30pm). Each tailgate will have drinks (alcoholic and nonalcoholic), food, games, and music. Tickets are $15. Buy them in the atrium M, T, Th 11:00am-2:00pm or online at <a href="https://texaslawfellowships.org/main/donate">https://texaslawfellowships.org/main/donate</a>. All ticket costs will support students working public interest internships.</p>
  <p>This tailgate is sponsored by our amazing affinity groups: Asian Pacific American Law Student Association, Chicano/Hispanic/Latino Law Students' Association, Law Students for Black Lives, OUTLaw, Student Bar Association, Thurgood Marshall Legal Society, and Women's Law Caucus.</p>\n\nIf you need an accommodation to participate in this event, please contact the event sponsor or the Texas Law Special Events Office at specialevents@law.utexas.edu no later than seven business days prior to the event.
X-ALT-DESC;FMTTYPE=text/html:<p>Join TLF and TJOGEL at our tailgate before the UT/Rice home game! The tailgate starts at 11 am on George's Patio and will go until the start of the football game (kickoff is at 2:30pm). Each tailgate will have drinks (alcoholic and nonalcoholic), food, games, and music. Tickets are $15. Buy them in the atrium M, T, Th 11:00am-2:00pm or online at <a href="https://texaslawfellowships.org/main/donate">https://texaslawfellowships.org/main/donate</a>. All ticket costs will support students working public interest internships.</p>
  <p>This tailgate is sponsored by our amazing affinity groups: Asian Pacific American Law Student Association, Chicano/Hispanic/Latino Law Students' Association, Law Students for Black Lives, OUTLaw, Student Bar Association, Thurgood Marshall Legal Society, and Women's Law Caucus.</p><p>If you need an accommodation to participate in this event, please contact the event
                                          event sponsor or the Texas Law Special Events Office at <a href="mailto:specialevents@law.utexas.edu">specialevents@law.utexas.edu</a> no later than seven business days prior to the event.</p>
CATEGORIES:Other
LOCATION: GEORGES-PATIO - George’s Café Patio
URL:http://law.utexas.edu/calendar/2023/09/02/74166/
CLASS:PUBLIC
STATUS:CONFIRMED

END:VEVENT
END:VCALENDAR