BEGIN:VCALENDAR
VERSION:2.0
PRODID:-//UNIVERSITY OF TEXAS SCHOOL OF LAW//NONSGML Events Calendar v1.0//EN
X-WR-TIMEZONE:America/Chicago
BEGIN:VTIMEZONE
TZID:US/Central
X-LIC-LOCATION:America/Chicago
BEGIN:DAYLIGHT
TZOFFSETFROM:-0600
TZOFFSETTO:-0500
TZNAME:CDT
DTSTART:19700308T020000
RRULE:FREQ=YEARLY;BYMONTH=3;BYDAY=2SU
END:DAYLIGHT
BEGIN:STANDARD
TZOFFSETFROM:-0500
TZOFFSETTO:-0600
TZNAME:CST
DTSTART:19701101T020000
RRULE:FREQ=YEARLY;BYMONTH=11;BYDAY=1SU
END:STANDARD
END:VTIMEZONE
BEGIN:VEVENT
DTSTART;TZID=US/Central:20230921T120000
DTEND;VALUE=DATE-TIME;TZID=US/Central:20230921T130000

DTSTAMP:20260419T143400Z
CREATED:20230914T185000Z
LAST-MODIFIED:20230914T185000Z
UID:20230921T120000-75268@law.utexas.edu
SUMMARY:EmPOWERed for Public Interest Initiative
DESCRIPTION:<p>Law schools need to do more to support the well-being, needs, and leadership development of students of color, students from low-income backgrounds, students with disabilities, immigrant students, LGBTQ+ students, formerly incarcerated students, and students with families who have been impacted by the criminal or immigration enforcement systems. This space is meant to build a positive community for students who not only have these experiences, but whose public interest work as attorneys may be directly tied to their lived experiences and/or those of their loved ones. For example: students who have themselves or had family members become entangled in the criminal legal system who are interested in public defense work; immigrant students, or students who are the children or family members of immigrants seeking to challenge the immigration system; low-income students seeking to challenge laws and policy that further marginalize low-income people such as predatory lending, cash bail, etc.</p>
  <p>This program seeks to serve as a space for dialogue, mentorship, and resource-sharing that is tailored to the particular needs, and strengths, of students in this position.</p>
  <p>Please RSVP by noon, September 15: <a href="https://utexas.qualtrics.com/jfe/form/SV_0eQH7naWQww5HQG">https://utexas.qualtrics.com/jfe/form/SV_0eQH7naWQww5HQG</a></p>\n\nIf you need an accommodation to participate in this event, please contact the event sponsor or the Texas Law Special Events Office at specialevents@law.utexas.edu no later than seven business days prior to the event.
X-ALT-DESC;FMTTYPE=text/html:<p>Law schools need to do more to support the well-being, needs, and leadership development of students of color, students from low-income backgrounds, students with disabilities, immigrant students, LGBTQ+ students, formerly incarcerated students, and students with families who have been impacted by the criminal or immigration enforcement systems. This space is meant to build a positive community for students who not only have these experiences, but whose public interest work as attorneys may be directly tied to their lived experiences and/or those of their loved ones. For example: students who have themselves or had family members become entangled in the criminal legal system who are interested in public defense work; immigrant students, or students who are the children or family members of immigrants seeking to challenge the immigration system; low-income students seeking to challenge laws and policy that further marginalize low-income people such as predatory lending, cash bail, etc.</p>
  <p>This program seeks to serve as a space for dialogue, mentorship, and resource-sharing that is tailored to the particular needs, and strengths, of students in this position.</p>
  <p>Please RSVP by noon, September 15: <a href="https://utexas.qualtrics.com/jfe/form/SV_0eQH7naWQww5HQG">https://utexas.qualtrics.com/jfe/form/SV_0eQH7naWQww5HQG</a></p><p>If you need an accommodation to participate in this event, please contact the event
                                          event sponsor or the Texas Law Special Events Office at <a href="mailto:specialevents@law.utexas.edu">specialevents@law.utexas.edu</a> no later than seven business days prior to the event.</p>
CATEGORIES:Lunch
LOCATION:
URL:http://law.utexas.edu/calendar/2023/09/21/75268/
CLASS:PUBLIC
STATUS:CONFIRMED

END:VEVENT
END:VCALENDAR