BEGIN:VCALENDAR
VERSION:2.0
PRODID:-//UNIVERSITY OF TEXAS SCHOOL OF LAW//NONSGML Events Calendar v1.0//EN
X-WR-TIMEZONE:America/Chicago
BEGIN:VTIMEZONE
TZID:US/Central
X-LIC-LOCATION:America/Chicago
BEGIN:DAYLIGHT
TZOFFSETFROM:-0600
TZOFFSETTO:-0500
TZNAME:CDT
DTSTART:19700308T020000
RRULE:FREQ=YEARLY;BYMONTH=3;BYDAY=2SU
END:DAYLIGHT
BEGIN:STANDARD
TZOFFSETFROM:-0500
TZOFFSETTO:-0600
TZNAME:CST
DTSTART:19701101T020000
RRULE:FREQ=YEARLY;BYMONTH=11;BYDAY=1SU
END:STANDARD
END:VTIMEZONE
BEGIN:VEVENT
DTSTART;TZID=US/Central:20231011T120000
DTEND;VALUE=DATE-TIME;TZID=US/Central:20231011T130000

DTSTAMP:20260419T141700Z
CREATED:20231002T183700Z
LAST-MODIFIED:20231002T183700Z
UID:20231011T120000-75488@law.utexas.edu
SUMMARY:Careers in Health Law
DESCRIPTION:<p>Join THLS on October 11th to learn about different careers in health law. We will be hosting a panel of health law attorneys from Husch Blackwell, Texas Health and Human Services, and Ascension Healthcare</p>
  <p>Cabo Bob’s Provided!
  WHEN: Wednesday, October 11th from 12-1pm
  WHERE: TNH 3.127
  RSVP here: <a href="https://docs.google.com/forms/d/e/1FAIpQLSeMqv43nsDhL9sBPQGuF5SjxVn2Whco4XGxZv50Odz3sADT_Q/viewform">https://docs.google.com/forms/d/e/1FAIpQLSeMqv43nsDhL9sBPQGuF5SjxVn2Whco4XGxZv50Odz3sADT_Q/viewform</a></p>\n\nIf you need an accommodation to participate in this event, please contact the event sponsor or the Texas Law Special Events Office at specialevents@law.utexas.edu no later than seven business days prior to the event.
X-ALT-DESC;FMTTYPE=text/html:<p>Join THLS on October 11th to learn about different careers in health law. We will be hosting a panel of health law attorneys from Husch Blackwell, Texas Health and Human Services, and Ascension Healthcare</p>
  <p>Cabo Bob’s Provided!
  WHEN: Wednesday, October 11th from 12-1pm
  WHERE: TNH 3.127
  RSVP here: <a href="https://docs.google.com/forms/d/e/1FAIpQLSeMqv43nsDhL9sBPQGuF5SjxVn2Whco4XGxZv50Odz3sADT_Q/viewform">https://docs.google.com/forms/d/e/1FAIpQLSeMqv43nsDhL9sBPQGuF5SjxVn2Whco4XGxZv50Odz3sADT_Q/viewform</a></p><p>If you need an accommodation to participate in this event, please contact the event
                                          event sponsor or the Texas Law Special Events Office at <a href="mailto:specialevents@law.utexas.edu">specialevents@law.utexas.edu</a> no later than seven business days prior to the event.</p>

LOCATION:TNH 3.127 - Roberts Classroom
URL:http://law.utexas.edu/calendar/2023/10/11/75488/
CLASS:PUBLIC
STATUS:CONFIRMED

END:VEVENT
END:VCALENDAR