BEGIN:VCALENDAR
VERSION:2.0
PRODID:-//UNIVERSITY OF TEXAS SCHOOL OF LAW//NONSGML Events Calendar v1.0//EN
X-WR-TIMEZONE:America/Chicago
BEGIN:VTIMEZONE
TZID:US/Central
X-LIC-LOCATION:America/Chicago
BEGIN:DAYLIGHT
TZOFFSETFROM:-0600
TZOFFSETTO:-0500
TZNAME:CDT
DTSTART:19700308T020000
RRULE:FREQ=YEARLY;BYMONTH=3;BYDAY=2SU
END:DAYLIGHT
BEGIN:STANDARD
TZOFFSETFROM:-0500
TZOFFSETTO:-0600
TZNAME:CST
DTSTART:19701101T020000
RRULE:FREQ=YEARLY;BYMONTH=11;BYDAY=1SU
END:STANDARD
END:VTIMEZONE
BEGIN:VEVENT
DTSTART;TZID=US/Central:20231016T114500
DTEND;VALUE=DATE-TIME;TZID=US/Central:20231016T130000

DTSTAMP:20260419T165200Z
CREATED:20230919T173900Z
LAST-MODIFIED:20230919T173900Z
UID:20231016T114500-75342@law.utexas.edu
SUMMARY:Public Defense Day with the TIDC
DESCRIPTION:<p>Please RSVP by Friday, October 13, on <a href="https://law-utexas-csm.symplicity.com/students/index.php?s=event&amp;ss=ws&amp;_ksl=1&amp;mode=list">Symplicity</a>.</p>
  <p>Come have lunch and hear from public defenders across Texas about this rewarding career path. </p>
  <p>Co-sponsored by the Texas Indigent Defense Commission and Texas Criminal Defense Lawyers Association.</p>\n\nIf you need an accommodation to participate in this event, please contact the event sponsor or the Texas Law Special Events Office at specialevents@law.utexas.edu no later than seven business days prior to the event.
X-ALT-DESC;FMTTYPE=text/html:<p>Please RSVP by Friday, October 13, on <a href="https://law-utexas-csm.symplicity.com/students/index.php?s=event&amp;ss=ws&amp;_ksl=1&amp;mode=list">Symplicity</a>.</p>
  <p>Come have lunch and hear from public defenders across Texas about this rewarding career path. </p>
  <p>Co-sponsored by the Texas Indigent Defense Commission and Texas Criminal Defense Lawyers Association.</p><p>If you need an accommodation to participate in this event, please contact the event
                                          event sponsor or the Texas Law Special Events Office at <a href="mailto:specialevents@law.utexas.edu">specialevents@law.utexas.edu</a> no later than seven business days prior to the event.</p>
CATEGORIES:Panel Discussion / Speaker Series
LOCATION:TNH 2.138 - Blanton Classroom
URL:http://law.utexas.edu/calendar/2023/10/16/75342/
CLASS:PUBLIC
STATUS:CONFIRMED
COMMENT:Please contact Mary Murphy, Career Counselor, at  <a href="mailto:mary.murphy@law.utexas.edu">mary.murphy@law.utexas.edu</a>.
END:VEVENT
END:VCALENDAR