BEGIN:VCALENDAR
VERSION:2.0
PRODID:-//UNIVERSITY OF TEXAS SCHOOL OF LAW//NONSGML Events Calendar v1.0//EN
X-WR-TIMEZONE:America/Chicago
BEGIN:VTIMEZONE
TZID:US/Central
X-LIC-LOCATION:America/Chicago
BEGIN:DAYLIGHT
TZOFFSETFROM:-0600
TZOFFSETTO:-0500
TZNAME:CDT
DTSTART:19700308T020000
RRULE:FREQ=YEARLY;BYMONTH=3;BYDAY=2SU
END:DAYLIGHT
BEGIN:STANDARD
TZOFFSETFROM:-0500
TZOFFSETTO:-0600
TZNAME:CST
DTSTART:19701101T020000
RRULE:FREQ=YEARLY;BYMONTH=11;BYDAY=1SU
END:STANDARD
END:VTIMEZONE
BEGIN:VEVENT
DTSTART;TZID=US/Central:20231023T114500
DTEND;VALUE=DATE-TIME;TZID=US/Central:20231023T130000

DTSTAMP:20260419T120200Z
CREATED:20230620T164700Z
LAST-MODIFIED:20231004T024800Z
UID:20231023T114500-74207@law.utexas.edu
SUMMARY:Constitutional Studies Luncheon
DESCRIPTION:<p>Presenter: </p>
  <p>Gonçalo Almeida Ribeiro</p>
  <p>Justice, Constitutional Court of Portugal</p>
  <p> </p>
  <p>
  Discussant: </p>
  <p>Lawrence Sager</p>
  <p>Alice Jane Drysdale Sheffield Regents Chair</p>
  <p>University of Texas at Austin</p>\n\nIf you need an accommodation to participate in this event, please contact the event sponsor or the Texas Law Special Events Office at specialevents@law.utexas.edu no later than seven business days prior to the event.
X-ALT-DESC;FMTTYPE=text/html:<p>Presenter: </p>
  <p>Gonçalo Almeida Ribeiro</p>
  <p>Justice, Constitutional Court of Portugal</p>
  <p> </p>
  <p>
  Discussant: </p>
  <p>Lawrence Sager</p>
  <p>Alice Jane Drysdale Sheffield Regents Chair</p>
  <p>University of Texas at Austin</p><p>If you need an accommodation to participate in this event, please contact the event
                                          event sponsor or the Texas Law Special Events Office at <a href="mailto:specialevents@law.utexas.edu">specialevents@law.utexas.edu</a> no later than seven business days prior to the event.</p>

LOCATION:TNH 2.111 - Sheffield-Massey Room
URL:http://law.utexas.edu/calendar/2023/10/23/74207/
CLASS:PUBLIC
STATUS:CONFIRMED

END:VEVENT
END:VCALENDAR