BEGIN:VCALENDAR
VERSION:2.0
PRODID:-//UNIVERSITY OF TEXAS SCHOOL OF LAW//NONSGML Events Calendar v1.0//EN
X-WR-TIMEZONE:America/Chicago
BEGIN:VTIMEZONE
TZID:US/Central
X-LIC-LOCATION:America/Chicago
BEGIN:DAYLIGHT
TZOFFSETFROM:-0600
TZOFFSETTO:-0500
TZNAME:CDT
DTSTART:19700308T020000
RRULE:FREQ=YEARLY;BYMONTH=3;BYDAY=2SU
END:DAYLIGHT
BEGIN:STANDARD
TZOFFSETFROM:-0500
TZOFFSETTO:-0600
TZNAME:CST
DTSTART:19701101T020000
RRULE:FREQ=YEARLY;BYMONTH=11;BYDAY=1SU
END:STANDARD
END:VTIMEZONE
BEGIN:VEVENT
DTSTART;TZID=US/Central:20231026T114500
DTEND;VALUE=DATE-TIME;TZID=US/Central:20231026T124500

DTSTAMP:20260419T135500Z
CREATED:20231018T214000Z
LAST-MODIFIED:20231020T164400Z
UID:20231026T114500-75706@law.utexas.edu
SUMMARY:Travis County Probate Court Panel-PGLETS
DESCRIPTION:<p>Please RSVP by Wednesday, October 25, on <a href="https://law-utexas-csm.symplicity.com/students/index.php?s=event&amp;ss=ws&amp;_ksl=1&amp;mode=list">Symplicity</a>.</p>
  <p>Hosted by PGLET (Probate, Guardianship Law, Estates, Trusts Society). Join attorneys and judges from the Travis County Probate Courts for a mediated discussion on the practice areas of probate, guardianship law, mental health law, and estate planning. Panelists will discuss the kinds of cases they see, their daily work activities, and how they balance their work and home lives. </p>
  <p>The discussion will feature Judge Nick Chu, Associate Judge Ruffner of Court No. 1, Staff Attorneys Nolan Bedward and Alexandra Jones-LaFont, Court Investigator Ophelia Enamorado, and the Civil Commitment Docket's Mental Health Public Defender, Jamie MacLean.
  </p>\n\nIf you need an accommodation to participate in this event, please contact the event sponsor or the Texas Law Special Events Office at specialevents@law.utexas.edu no later than seven business days prior to the event.
X-ALT-DESC;FMTTYPE=text/html:<p>Please RSVP by Wednesday, October 25, on <a href="https://law-utexas-csm.symplicity.com/students/index.php?s=event&amp;ss=ws&amp;_ksl=1&amp;mode=list">Symplicity</a>.</p>
  <p>Hosted by PGLET (Probate, Guardianship Law, Estates, Trusts Society). Join attorneys and judges from the Travis County Probate Courts for a mediated discussion on the practice areas of probate, guardianship law, mental health law, and estate planning. Panelists will discuss the kinds of cases they see, their daily work activities, and how they balance their work and home lives. </p>
  <p>The discussion will feature Judge Nick Chu, Associate Judge Ruffner of Court No. 1, Staff Attorneys Nolan Bedward and Alexandra Jones-LaFont, Court Investigator Ophelia Enamorado, and the Civil Commitment Docket's Mental Health Public Defender, Jamie MacLean.
  </p><p>If you need an accommodation to participate in this event, please contact the event
                                          event sponsor or the Texas Law Special Events Office at <a href="mailto:specialevents@law.utexas.edu">specialevents@law.utexas.edu</a> no later than seven business days prior to the event.</p>
CATEGORIES:Panel Discussion / Speaker Series
LOCATION:TNH 3.127 - Roberts Classroom
URL:http://law.utexas.edu/calendar/2023/10/26/75706/
CLASS:PUBLIC
STATUS:CONFIRMED
COMMENT:Please contact Denyse Demel, Senior Associate Director, at  <a href="mailto:ddemel@law.utexas.edu">ddemel@law.utexas.edu</a>
END:VEVENT
END:VCALENDAR