BEGIN:VCALENDAR
VERSION:2.0
PRODID:-//UNIVERSITY OF TEXAS SCHOOL OF LAW//NONSGML Events Calendar v1.0//EN
X-WR-TIMEZONE:America/Chicago
BEGIN:VTIMEZONE
TZID:US/Central
X-LIC-LOCATION:America/Chicago
BEGIN:DAYLIGHT
TZOFFSETFROM:-0600
TZOFFSETTO:-0500
TZNAME:CDT
DTSTART:19700308T020000
RRULE:FREQ=YEARLY;BYMONTH=3;BYDAY=2SU
END:DAYLIGHT
BEGIN:STANDARD
TZOFFSETFROM:-0500
TZOFFSETTO:-0600
TZNAME:CST
DTSTART:19701101T020000
RRULE:FREQ=YEARLY;BYMONTH=11;BYDAY=1SU
END:STANDARD
END:VTIMEZONE
BEGIN:VEVENT
DTSTART;TZID=US/Central:20231102
DTEND;TZID=US/Central:20231103
X-MICROSOFT-CDO-ALLDAYEVENT:TRUE
X-FUNAMBOL-ALLDAY:TRUE
DTSTAMP:20260419T153000Z
CREATED:20230720T161400Z
LAST-MODIFIED:20230720T161400Z
UID:20231102T000000-74441@law.utexas.edu
SUMMARY:Advanced Patent Law Institut
DESCRIPTION:<p>UT Law's 28th Annual Advanced Patent Law Institute covers the latest developments in patent law and features a sophisticated array of prosecution and litigation topics. Hear from nationally recognized faculty including senior IP counsel of major corporations, patent prosecution and litigation experts from around the nation, U.S. District Court Judges, and leading academics. </p>\n\nIf you need an accommodation to participate in this event, please contact the event sponsor or the Texas Law Special Events Office at specialevents@law.utexas.edu no later than seven business days prior to the event.
X-ALT-DESC;FMTTYPE=text/html:<p>UT Law's 28th Annual Advanced Patent Law Institute covers the latest developments in patent law and features a sophisticated array of prosecution and litigation topics. Hear from nationally recognized faculty including senior IP counsel of major corporations, patent prosecution and litigation experts from around the nation, U.S. District Court Judges, and leading academics. </p><p>If you need an accommodation to participate in this event, please contact the event
                                          event sponsor or the Texas Law Special Events Office at <a href="mailto:specialevents@law.utexas.edu">specialevents@law.utexas.edu</a> no later than seven business days prior to the event.</p>
CATEGORIES:Other

URL:http://law.utexas.edu/calendar/2023/11/02/74441/
CLASS:PUBLIC
STATUS:CONFIRMED
COMMENT:https://utcle.org/conferences/PT23/
END:VEVENT
END:VCALENDAR