BEGIN:VCALENDAR
VERSION:2.0
PRODID:-//UNIVERSITY OF TEXAS SCHOOL OF LAW//NONSGML Events Calendar v1.0//EN
X-WR-TIMEZONE:America/Chicago
BEGIN:VTIMEZONE
TZID:US/Central
X-LIC-LOCATION:America/Chicago
BEGIN:DAYLIGHT
TZOFFSETFROM:-0600
TZOFFSETTO:-0500
TZNAME:CDT
DTSTART:19700308T020000
RRULE:FREQ=YEARLY;BYMONTH=3;BYDAY=2SU
END:DAYLIGHT
BEGIN:STANDARD
TZOFFSETFROM:-0500
TZOFFSETTO:-0600
TZNAME:CST
DTSTART:19701101T020000
RRULE:FREQ=YEARLY;BYMONTH=11;BYDAY=1SU
END:STANDARD
END:VTIMEZONE
BEGIN:VEVENT
DTSTART;TZID=US/Central:20231116T140000
DTEND;VALUE=DATE-TIME;TZID=US/Central:20231116T160000

DTSTAMP:20260419T155700Z
CREATED:20230921T232000Z
LAST-MODIFIED:20231116T154900Z
UID:20231116T140000-75386@law.utexas.edu
SUMMARY:Shearman &amp; Sterling | Tiny Tails
DESCRIPTION:<p>1Ls: Stop by to meet recruiters from <a href="https://www.shearman.com/en/">Shearman &amp; Sterling</a> to learn more about their firm and visit the <a href="https://www.tinytailstoyou.com/">Tiny Tails to You</a> petting zoo outside on the Patman Plaza (weather permitting)!</p>
  <p>Event is subject to relocation in the Susman Godfrey Atrium if the weather does not allow for a safe and comfortable experience on the Patman Plaza.</p>\n\nIf you need an accommodation to participate in this event, please contact the event sponsor or the Texas Law Special Events Office at specialevents@law.utexas.edu no later than seven business days prior to the event.
X-ALT-DESC;FMTTYPE=text/html:<p>1Ls: Stop by to meet recruiters from <a href="https://www.shearman.com/en/">Shearman &amp; Sterling</a> to learn more about their firm and visit the <a href="https://www.tinytailstoyou.com/">Tiny Tails to You</a> petting zoo outside on the Patman Plaza (weather permitting)!</p>
  <p>Event is subject to relocation in the Susman Godfrey Atrium if the weather does not allow for a safe and comfortable experience on the Patman Plaza.</p><p>If you need an accommodation to participate in this event, please contact the event
                                          event sponsor or the Texas Law Special Events Office at <a href="mailto:specialevents@law.utexas.edu">specialevents@law.utexas.edu</a> no later than seven business days prior to the event.</p>
CATEGORIES:Other
LOCATION: PATMAN - Patman Family Plaza
URL:http://law.utexas.edu/calendar/2023/11/16/75386/
CLASS:PUBLIC
STATUS:CONFIRMED
COMMENT:Please contact <a href="mailto:tmorales@law.utexas.edu">Tim Morales</a>, Senior Events Specialist.
END:VEVENT
END:VCALENDAR