BEGIN:VCALENDAR
VERSION:2.0
PRODID:-//UNIVERSITY OF TEXAS SCHOOL OF LAW//NONSGML Events Calendar v1.0//EN
X-WR-TIMEZONE:America/Chicago
BEGIN:VTIMEZONE
TZID:US/Central
X-LIC-LOCATION:America/Chicago
BEGIN:DAYLIGHT
TZOFFSETFROM:-0600
TZOFFSETTO:-0500
TZNAME:CDT
DTSTART:19700308T020000
RRULE:FREQ=YEARLY;BYMONTH=3;BYDAY=2SU
END:DAYLIGHT
BEGIN:STANDARD
TZOFFSETFROM:-0500
TZOFFSETTO:-0600
TZNAME:CST
DTSTART:19701101T020000
RRULE:FREQ=YEARLY;BYMONTH=11;BYDAY=1SU
END:STANDARD
END:VTIMEZONE
BEGIN:VEVENT
DTSTART;TZID=US/Central:20240123T084500
DTEND;VALUE=DATE-TIME;TZID=US/Central:20240123T103000

DTSTAMP:20260419T170900Z
CREATED:20240104T193200Z
LAST-MODIFIED:20240104T193200Z
UID:20240123T084500-76547@law.utexas.edu
SUMMARY:BOA Taco Breakfast w/ CELSIUS
DESCRIPTION:<p>Join BOA for another taco breakfast with coffee and CELSIUS! Stop by the BOA Room (TNH 2.130) from 8:45-10:30AM for free breakfast and energy drinks.</p>\n\nIf you need an accommodation to participate in this event, please contact the event sponsor or the Texas Law Special Events Office at specialevents@law.utexas.edu no later than seven business days prior to the event.
X-ALT-DESC;FMTTYPE=text/html:<p>Join BOA for another taco breakfast with coffee and CELSIUS! Stop by the BOA Room (TNH 2.130) from 8:45-10:30AM for free breakfast and energy drinks.</p><p>If you need an accommodation to participate in this event, please contact the event
                                          event sponsor or the Texas Law Special Events Office at <a href="mailto:specialevents@law.utexas.edu">specialevents@law.utexas.edu</a> no later than seven business days prior to the event.</p>
CATEGORIES:Breakfast

URL:http://law.utexas.edu/calendar/2024/01/23/76547/
CLASS:PUBLIC
STATUS:CONFIRMED

END:VEVENT
END:VCALENDAR