BEGIN:VCALENDAR
VERSION:2.0
PRODID:-//UNIVERSITY OF TEXAS SCHOOL OF LAW//NONSGML Events Calendar v1.0//EN
X-WR-TIMEZONE:America/Chicago
BEGIN:VTIMEZONE
TZID:US/Central
X-LIC-LOCATION:America/Chicago
BEGIN:DAYLIGHT
TZOFFSETFROM:-0600
TZOFFSETTO:-0500
TZNAME:CDT
DTSTART:19700308T020000
RRULE:FREQ=YEARLY;BYMONTH=3;BYDAY=2SU
END:DAYLIGHT
BEGIN:STANDARD
TZOFFSETFROM:-0500
TZOFFSETTO:-0600
TZNAME:CST
DTSTART:19701101T020000
RRULE:FREQ=YEARLY;BYMONTH=11;BYDAY=1SU
END:STANDARD
END:VTIMEZONE
BEGIN:VEVENT
DTSTART;TZID=US/Central:20240127T080000
DTEND;VALUE=DATE-TIME;TZID=US/Central:20240127T173000

DTSTAMP:20260419T153100Z
CREATED:20230427T135600Z
LAST-MODIFIED:20230427T135600Z
UID:20240127T080000-73906@law.utexas.edu
SUMMARY:Third Cohort Academy (2023 Cohort)
DESCRIPTION:<p>The in-person weekend academies will include community building, mentoring, networking, admissions coaching, and presentations and workshops on law school admissions and the law school experience. Weekend academies will also provide an opportunity for Cohort members to reflect on the admissions cycle and develop relationships with one another.</p>
  <p>Third Cohort Academy (Focus: Career Exploration; Law School Preparation; Mentoring; Admissions Coaching)</p>\n\nIf you need an accommodation to participate in this event, please contact the event sponsor or the Texas Law Special Events Office at specialevents@law.utexas.edu no later than seven business days prior to the event.
X-ALT-DESC;FMTTYPE=text/html:<p>The in-person weekend academies will include community building, mentoring, networking, admissions coaching, and presentations and workshops on law school admissions and the law school experience. Weekend academies will also provide an opportunity for Cohort members to reflect on the admissions cycle and develop relationships with one another.</p>
  <p>Third Cohort Academy (Focus: Career Exploration; Law School Preparation; Mentoring; Admissions Coaching)</p><p>If you need an accommodation to participate in this event, please contact the event
                                          event sponsor or the Texas Law Special Events Office at <a href="mailto:specialevents@law.utexas.edu">specialevents@law.utexas.edu</a> no later than seven business days prior to the event.</p>


URL:http://law.utexas.edu/calendar/2024/01/27/73906/
CLASS:PUBLIC
STATUS:CONFIRMED

END:VEVENT
END:VCALENDAR