BEGIN:VCALENDAR
VERSION:2.0
PRODID:-//UNIVERSITY OF TEXAS SCHOOL OF LAW//NONSGML Events Calendar v1.0//EN
X-WR-TIMEZONE:America/Chicago
BEGIN:VTIMEZONE
TZID:US/Central
X-LIC-LOCATION:America/Chicago
BEGIN:DAYLIGHT
TZOFFSETFROM:-0600
TZOFFSETTO:-0500
TZNAME:CDT
DTSTART:19700308T020000
RRULE:FREQ=YEARLY;BYMONTH=3;BYDAY=2SU
END:DAYLIGHT
BEGIN:STANDARD
TZOFFSETFROM:-0500
TZOFFSETTO:-0600
TZNAME:CST
DTSTART:19701101T020000
RRULE:FREQ=YEARLY;BYMONTH=11;BYDAY=1SU
END:STANDARD
END:VTIMEZONE
BEGIN:VEVENT
DTSTART;TZID=US/Central:20240130T120000
DTEND;VALUE=DATE-TIME;TZID=US/Central:20240130T125000

DTSTAMP:20260419T152800Z
CREATED:20240128T001200Z
LAST-MODIFIED:20240128T001200Z
UID:20240130T120000-76749@law.utexas.edu
SUMMARY:Election Law &amp; State Preemption
DESCRIPTION:<p>Professors Marziani and Sellers will talk about how state preemption and election administration challenges will affect the 2024 election, and will preview the important election law cases to keep an eye on. Sponsored by ACS and Law Students 4 Black Lives.</p>\n\nIf you need an accommodation to participate in this event, please contact the event sponsor or the Texas Law Special Events Office at specialevents@law.utexas.edu no later than seven business days prior to the event.
X-ALT-DESC;FMTTYPE=text/html:<p>Professors Marziani and Sellers will talk about how state preemption and election administration challenges will affect the 2024 election, and will preview the important election law cases to keep an eye on. Sponsored by ACS and Law Students 4 Black Lives.</p><p>If you need an accommodation to participate in this event, please contact the event
                                          event sponsor or the Texas Law Special Events Office at <a href="mailto:specialevents@law.utexas.edu">specialevents@law.utexas.edu</a> no later than seven business days prior to the event.</p>
CATEGORIES:Lunch

URL:http://law.utexas.edu/calendar/2024/01/30/76749/
CLASS:PUBLIC
STATUS:CONFIRMED

END:VEVENT
END:VCALENDAR