BEGIN:VCALENDAR
VERSION:2.0
PRODID:-//UNIVERSITY OF TEXAS SCHOOL OF LAW//NONSGML Events Calendar v1.0//EN
X-WR-TIMEZONE:America/Chicago
BEGIN:VTIMEZONE
TZID:US/Central
X-LIC-LOCATION:America/Chicago
BEGIN:DAYLIGHT
TZOFFSETFROM:-0600
TZOFFSETTO:-0500
TZNAME:CDT
DTSTART:19700308T020000
RRULE:FREQ=YEARLY;BYMONTH=3;BYDAY=2SU
END:DAYLIGHT
BEGIN:STANDARD
TZOFFSETFROM:-0500
TZOFFSETTO:-0600
TZNAME:CST
DTSTART:19701101T020000
RRULE:FREQ=YEARLY;BYMONTH=11;BYDAY=1SU
END:STANDARD
END:VTIMEZONE
BEGIN:VEVENT
DTSTART;TZID=US/Central:20240201T173000
DTEND;VALUE=DATE-TIME;TZID=US/Central:20240201T193000

DTSTAMP:20260419T165200Z
CREATED:20240123T135400Z
LAST-MODIFIED:20240123T135400Z
UID:20240201T173000-76678@law.utexas.edu
SUMMARY:TJOGEL/KBH Energy Center Industry Night
DESCRIPTION:<p>TJOGEL and the Kay Bailey Hutchison Energy Center are hosting an Energy Industry Night at the law school on February 1, from 5:30pm - 7:30 pm .  The first hour will be a panel of energy industry legal professionals, followed by a networking reception in the Jamail Pavilion.   This is an excellent panel for anyone planning on pursuing a career in the legal energy industry----the advice of the panelists is broadly applicable across grade levels.</p>\n\nIf you need an accommodation to participate in this event, please contact the event sponsor or the Texas Law Special Events Office at specialevents@law.utexas.edu no later than seven business days prior to the event.
X-ALT-DESC;FMTTYPE=text/html:<p>TJOGEL and the Kay Bailey Hutchison Energy Center are hosting an Energy Industry Night at the law school on February 1, from 5:30pm - 7:30 pm .  The first hour will be a panel of energy industry legal professionals, followed by a networking reception in the Jamail Pavilion.   This is an excellent panel for anyone planning on pursuing a career in the legal energy industry----the advice of the panelists is broadly applicable across grade levels.</p><p>If you need an accommodation to participate in this event, please contact the event
                                          event sponsor or the Texas Law Special Events Office at <a href="mailto:specialevents@law.utexas.edu">specialevents@law.utexas.edu</a> no later than seven business days prior to the event.</p>
CATEGORIES:Panel Discussion / Speaker Series

URL:http://law.utexas.edu/calendar/2024/02/01/76678/
CLASS:PUBLIC
STATUS:CONFIRMED
COMMENT:Contact managingeditor@tjogel.org.
END:VEVENT
END:VCALENDAR