BEGIN:VCALENDAR
VERSION:2.0
PRODID:-//UNIVERSITY OF TEXAS SCHOOL OF LAW//NONSGML Events Calendar v1.0//EN
X-WR-TIMEZONE:America/Chicago
BEGIN:VTIMEZONE
TZID:US/Central
X-LIC-LOCATION:America/Chicago
BEGIN:DAYLIGHT
TZOFFSETFROM:-0600
TZOFFSETTO:-0500
TZNAME:CDT
DTSTART:19700308T020000
RRULE:FREQ=YEARLY;BYMONTH=3;BYDAY=2SU
END:DAYLIGHT
BEGIN:STANDARD
TZOFFSETFROM:-0500
TZOFFSETTO:-0600
TZNAME:CST
DTSTART:19701101T020000
RRULE:FREQ=YEARLY;BYMONTH=11;BYDAY=1SU
END:STANDARD
END:VTIMEZONE
BEGIN:VEVENT
DTSTART;TZID=US/Central:20240206T114500
DTEND;VALUE=DATE-TIME;TZID=US/Central:20240206T124500

DTSTAMP:20260419T153000Z
CREATED:20231002T224800Z
LAST-MODIFIED:20240205T224400Z
UID:20240206T114500-75492@law.utexas.edu
SUMMARY:Williams &amp; Connolly | Law Firm Economics
DESCRIPTION:<p>RSVP <a href="https://forms.gle/opRxHcx8peHnfMeb8">online</a>. Lunch will be served.</p>
  <p>Sponsored by Texas Law Review.</p>\n\nIf you need an accommodation to participate in this event, please contact the event sponsor or the Texas Law Special Events Office at specialevents@law.utexas.edu no later than seven business days prior to the event.
X-ALT-DESC;FMTTYPE=text/html:<p>RSVP <a href="https://forms.gle/opRxHcx8peHnfMeb8">online</a>. Lunch will be served.</p>
  <p>Sponsored by Texas Law Review.</p><p>If you need an accommodation to participate in this event, please contact the event
                                          event sponsor or the Texas Law Special Events Office at <a href="mailto:specialevents@law.utexas.edu">specialevents@law.utexas.edu</a> no later than seven business days prior to the event.</p>
CATEGORIES:Panel Discussion / Speaker Series
LOCATION:TNH 2.124 - Reaud Classroom
URL:http://law.utexas.edu/calendar/2024/02/06/75492/
CLASS:PUBLIC
STATUS:CONFIRMED
COMMENT:Please contact Denyse Demel, Senior Associate Director, at  <a href="mailto:ddemel@law.utexas.edu">ddemel@law.utexas.edu</a>.
END:VEVENT
END:VCALENDAR