BEGIN:VCALENDAR
VERSION:2.0
PRODID:-//UNIVERSITY OF TEXAS SCHOOL OF LAW//NONSGML Events Calendar v1.0//EN
X-WR-TIMEZONE:America/Chicago
BEGIN:VTIMEZONE
TZID:US/Central
X-LIC-LOCATION:America/Chicago
BEGIN:DAYLIGHT
TZOFFSETFROM:-0600
TZOFFSETTO:-0500
TZNAME:CDT
DTSTART:19700308T020000
RRULE:FREQ=YEARLY;BYMONTH=3;BYDAY=2SU
END:DAYLIGHT
BEGIN:STANDARD
TZOFFSETFROM:-0500
TZOFFSETTO:-0600
TZNAME:CST
DTSTART:19701101T020000
RRULE:FREQ=YEARLY;BYMONTH=11;BYDAY=1SU
END:STANDARD
END:VTIMEZONE
BEGIN:VEVENT
DTSTART;TZID=US/Central:20240206T120000
DTEND;VALUE=DATE-TIME;TZID=US/Central:20240206T125000

DTSTAMP:20260419T124300Z
CREATED:20240131T145800Z
LAST-MODIFIED:20240131T145800Z
UID:20240206T120000-76774@law.utexas.edu
SUMMARY:Progressive Prosecution
DESCRIPTION:<p>Please join the Texas Federalist Society for a free lunch and a engrossing debate between Texas Law Professor Jennifer Laurin and Charles Stimson, Deputy Director of the Edwin III Center for Legal and Judicial Studies as they discuss the future of selective criminal prosecution.</p>\n\nIf you need an accommodation to participate in this event, please contact the event sponsor or the Texas Law Special Events Office at specialevents@law.utexas.edu no later than seven business days prior to the event.
X-ALT-DESC;FMTTYPE=text/html:<p>Please join the Texas Federalist Society for a free lunch and a engrossing debate between Texas Law Professor Jennifer Laurin and Charles Stimson, Deputy Director of the Edwin III Center for Legal and Judicial Studies as they discuss the future of selective criminal prosecution.</p><p>If you need an accommodation to participate in this event, please contact the event
                                          event sponsor or the Texas Law Special Events Office at <a href="mailto:specialevents@law.utexas.edu">specialevents@law.utexas.edu</a> no later than seven business days prior to the event.</p>
CATEGORIES:Panel Discussion / Speaker Series
LOCATION:TNH 2.139 - Wilson Classroom
URL:http://law.utexas.edu/calendar/2024/02/06/76774/
CLASS:PUBLIC
STATUS:CONFIRMED

END:VEVENT
END:VCALENDAR