BEGIN:VCALENDAR
VERSION:2.0
PRODID:-//UNIVERSITY OF TEXAS SCHOOL OF LAW//NONSGML Events Calendar v1.0//EN
X-WR-TIMEZONE:America/Chicago
BEGIN:VTIMEZONE
TZID:US/Central
X-LIC-LOCATION:America/Chicago
BEGIN:DAYLIGHT
TZOFFSETFROM:-0600
TZOFFSETTO:-0500
TZNAME:CDT
DTSTART:19700308T020000
RRULE:FREQ=YEARLY;BYMONTH=3;BYDAY=2SU
END:DAYLIGHT
BEGIN:STANDARD
TZOFFSETFROM:-0500
TZOFFSETTO:-0600
TZNAME:CST
DTSTART:19701101T020000
RRULE:FREQ=YEARLY;BYMONTH=11;BYDAY=1SU
END:STANDARD
END:VTIMEZONE
BEGIN:VEVENT
DTSTART;TZID=US/Central:20240208
DTEND;TZID=US/Central:20240209
X-MICROSOFT-CDO-ALLDAYEVENT:TRUE
X-FUNAMBOL-ALLDAY:TRUE
DTSTAMP:20260419T175900Z
CREATED:20231201T162200Z
LAST-MODIFIED:20231203T211200Z
UID:20240208T090000-76227@law.utexas.edu
SUMMARY:Public Service Career Fair
DESCRIPTION:<p>Hosted annually by Texas Law, the Public Service Career Fair (PSCF) is the largest public service interview program for law students in Texas.</p>
  <p>During both days of PSCF, both public interest and government employers will conduct interviews for paid and unpaid summer and postgraduate positions. 1Ls, 2Ls, 3Ls, domestic and foreign-trained LL.M.s, and recent graduates (up to one year after graduation) from all Texas law schools who are eligible to participate in this program.</p>\n\nIf you need an accommodation to participate in this event, please contact the event sponsor or the Texas Law Special Events Office at specialevents@law.utexas.edu no later than seven business days prior to the event.
X-ALT-DESC;FMTTYPE=text/html:<p>Hosted annually by Texas Law, the Public Service Career Fair (PSCF) is the largest public service interview program for law students in Texas.</p>
  <p>During both days of PSCF, both public interest and government employers will conduct interviews for paid and unpaid summer and postgraduate positions. 1Ls, 2Ls, 3Ls, domestic and foreign-trained LL.M.s, and recent graduates (up to one year after graduation) from all Texas law schools who are eligible to participate in this program.</p><p>If you need an accommodation to participate in this event, please contact the event
                                          event sponsor or the Texas Law Special Events Office at <a href="mailto:specialevents@law.utexas.edu">specialevents@law.utexas.edu</a> no later than seven business days prior to the event.</p>
CATEGORIES:Interview Program
LOCATION:Virtual via Flo Recruit on February 8, 2024
URL:http://law.utexas.edu/calendar/2024/02/08/76227/
CLASS:PUBLIC
STATUS:CONFIRMED
COMMENT:Please contact <a href="mailto:tmorales@law.utexas.edu">Tim Morales</a>, Senior Events Specialist.
END:VEVENT
END:VCALENDAR