BEGIN:VCALENDAR
VERSION:2.0
PRODID:-//UNIVERSITY OF TEXAS SCHOOL OF LAW//NONSGML Events Calendar v1.0//EN
X-WR-TIMEZONE:America/Chicago
BEGIN:VTIMEZONE
TZID:US/Central
X-LIC-LOCATION:America/Chicago
BEGIN:DAYLIGHT
TZOFFSETFROM:-0600
TZOFFSETTO:-0500
TZNAME:CDT
DTSTART:19700308T020000
RRULE:FREQ=YEARLY;BYMONTH=3;BYDAY=2SU
END:DAYLIGHT
BEGIN:STANDARD
TZOFFSETFROM:-0500
TZOFFSETTO:-0600
TZNAME:CST
DTSTART:19701101T020000
RRULE:FREQ=YEARLY;BYMONTH=11;BYDAY=1SU
END:STANDARD
END:VTIMEZONE
BEGIN:VEVENT
DTSTART;TZID=US/Central:20240221T154500
DTEND;VALUE=DATE-TIME;TZID=US/Central:20240221T163000

DTSTAMP:20260419T193400Z
CREATED:20240115T172000Z
LAST-MODIFIED:20240205T225800Z
UID:20240221T154500-76648@law.utexas.edu
SUMMARY:Society Program Info Session # 1
DESCRIPTION:<p>Interested in becoming a Dean's Fellow, Society Coordinator or Academic Success Fellow for the 2024/25 academic year?</p>
  <p>Come to an info session and hear from SAO + current Society Program members. Get your questions answered before applying.</p>
  <p>Attendance at an info session is a pre-requisite to applying.</p>\n\nIf you need an accommodation to participate in this event, please contact the event sponsor or the Texas Law Special Events Office at specialevents@law.utexas.edu no later than seven business days prior to the event.
X-ALT-DESC;FMTTYPE=text/html:<p>Interested in becoming a Dean's Fellow, Society Coordinator or Academic Success Fellow for the 2024/25 academic year?</p>
  <p>Come to an info session and hear from SAO + current Society Program members. Get your questions answered before applying.</p>
  <p>Attendance at an info session is a pre-requisite to applying.</p><p>If you need an accommodation to participate in this event, please contact the event
                                          event sponsor or the Texas Law Special Events Office at <a href="mailto:specialevents@law.utexas.edu">specialevents@law.utexas.edu</a> no later than seven business days prior to the event.</p>
CATEGORIES:Meeting
LOCATION:TNH 2.139 - Wilson Classroom
URL:http://law.utexas.edu/calendar/2024/02/21/76648/
CLASS:PUBLIC
STATUS:CONFIRMED

END:VEVENT
END:VCALENDAR