BEGIN:VCALENDAR
VERSION:2.0
PRODID:-//UNIVERSITY OF TEXAS SCHOOL OF LAW//NONSGML Events Calendar v1.0//EN
X-WR-TIMEZONE:America/Chicago
BEGIN:VTIMEZONE
TZID:US/Central
X-LIC-LOCATION:America/Chicago
BEGIN:DAYLIGHT
TZOFFSETFROM:-0600
TZOFFSETTO:-0500
TZNAME:CDT
DTSTART:19700308T020000
RRULE:FREQ=YEARLY;BYMONTH=3;BYDAY=2SU
END:DAYLIGHT
BEGIN:STANDARD
TZOFFSETFROM:-0500
TZOFFSETTO:-0600
TZNAME:CST
DTSTART:19701101T020000
RRULE:FREQ=YEARLY;BYMONTH=11;BYDAY=1SU
END:STANDARD
END:VTIMEZONE
BEGIN:VEVENT
DTSTART;TZID=US/Central:20240221T114500
DTEND;VALUE=DATE-TIME;TZID=US/Central:20240221T124500

DTSTAMP:20260419T145600Z
CREATED:20240215T204100Z
LAST-MODIFIED:20240215T204500Z
UID:20240221T114500-76951@law.utexas.edu
SUMMARY:Estate Planning in Practice
DESCRIPTION:<p>Please RSVP by Tuesday, February 20, on <a href="https://law-utexas-csm.symplicity.com/students/index.php?s=event&amp;ss=ws&amp;_ksl=1&amp;mode=list">Symplicity</a>.</p>
  <p>Hosted by PGLETS. Join premier Austin estate planners for a discussion on creative problem solving for large and complex estates. </p>
  <p>Featuring: 
  Sam Hildebrand of Jackson Walker LLP 
  Lois Ann Stanton of Osborne, Helman, Scott, Knisely &amp; Stanton, LLP
  Steve Saunders of Saunders &amp; Associates 
  </p>\n\nIf you need an accommodation to participate in this event, please contact the event sponsor or the Texas Law Special Events Office at specialevents@law.utexas.edu no later than seven business days prior to the event.
X-ALT-DESC;FMTTYPE=text/html:<p>Please RSVP by Tuesday, February 20, on <a href="https://law-utexas-csm.symplicity.com/students/index.php?s=event&amp;ss=ws&amp;_ksl=1&amp;mode=list">Symplicity</a>.</p>
  <p>Hosted by PGLETS. Join premier Austin estate planners for a discussion on creative problem solving for large and complex estates. </p>
  <p>Featuring: 
  Sam Hildebrand of Jackson Walker LLP 
  Lois Ann Stanton of Osborne, Helman, Scott, Knisely &amp; Stanton, LLP
  Steve Saunders of Saunders &amp; Associates 
  </p><p>If you need an accommodation to participate in this event, please contact the event
                                          event sponsor or the Texas Law Special Events Office at <a href="mailto:specialevents@law.utexas.edu">specialevents@law.utexas.edu</a> no later than seven business days prior to the event.</p>
CATEGORIES:Panel Discussion / Speaker Series
LOCATION:TNH 2.124 - Reaud Classroom
URL:http://law.utexas.edu/calendar/2024/02/21/76951/
CLASS:PUBLIC
STATUS:CONFIRMED
COMMENT:Please contact Denyse Demel, Senior Associate Director, at  <a href="mailto:ddemel@law.utexas.edu">ddemel@law.utexas.edu</a>.
END:VEVENT
END:VCALENDAR