BEGIN:VCALENDAR
VERSION:2.0
PRODID:-//UNIVERSITY OF TEXAS SCHOOL OF LAW//NONSGML Events Calendar v1.0//EN
X-WR-TIMEZONE:America/Chicago
BEGIN:VTIMEZONE
TZID:US/Central
X-LIC-LOCATION:America/Chicago
BEGIN:DAYLIGHT
TZOFFSETFROM:-0600
TZOFFSETTO:-0500
TZNAME:CDT
DTSTART:19700308T020000
RRULE:FREQ=YEARLY;BYMONTH=3;BYDAY=2SU
END:DAYLIGHT
BEGIN:STANDARD
TZOFFSETFROM:-0500
TZOFFSETTO:-0600
TZNAME:CST
DTSTART:19701101T020000
RRULE:FREQ=YEARLY;BYMONTH=11;BYDAY=1SU
END:STANDARD
END:VTIMEZONE
BEGIN:VEVENT
DTSTART;TZID=US/Central:20240222T120000
DTEND;VALUE=DATE-TIME;TZID=US/Central:20240222T131500

DTSTAMP:20260419T155300Z
CREATED:20240204T213800Z
LAST-MODIFIED:20240206T213600Z
UID:20240222T120000-76807@law.utexas.edu
SUMMARY:Animal Law Workshop
DESCRIPTION:<p>Drawing on her work in human and animal research ethics, Dr. Hope Ferdowsian will discuss how starting from clear ethical principles has informed human research policy, and how a similar approach could better inform research policy surrounding the use of animals in research—resulting in improvements in medicine, science, and ethics and greater protections and benefits for people and animals. Join us in-person in TNH 3.125 or online via Zoom (<a href="https://utexas.zoom.us/j/92155979467?pwd=MXJncTJ1eVFNVmxJL2FEZlMxdktlZz09">https://utexas.zoom.us/j/92155979467?pwd=MXJncTJ1eVFNVmxJL2FEZlMxdktlZz09</a>) 
  Meeting ID: 921 5597 9467
  Passcode: 242422
  </p>\n\nIf you need an accommodation to participate in this event, please contact the event sponsor or the Texas Law Special Events Office at specialevents@law.utexas.edu no later than seven business days prior to the event.
X-ALT-DESC;FMTTYPE=text/html:<p>Drawing on her work in human and animal research ethics, Dr. Hope Ferdowsian will discuss how starting from clear ethical principles has informed human research policy, and how a similar approach could better inform research policy surrounding the use of animals in research—resulting in improvements in medicine, science, and ethics and greater protections and benefits for people and animals. Join us in-person in TNH 3.125 or online via Zoom (<a href="https://utexas.zoom.us/j/92155979467?pwd=MXJncTJ1eVFNVmxJL2FEZlMxdktlZz09">https://utexas.zoom.us/j/92155979467?pwd=MXJncTJ1eVFNVmxJL2FEZlMxdktlZz09</a>) 
  Meeting ID: 921 5597 9467
  Passcode: 242422
  </p><p>If you need an accommodation to participate in this event, please contact the event
                                          event sponsor or the Texas Law Special Events Office at <a href="mailto:specialevents@law.utexas.edu">specialevents@law.utexas.edu</a> no later than seven business days prior to the event.</p>
CATEGORIES:Workshop / Training Program
LOCATION:TNH 3.125 - Denius Classroom
URL:http://law.utexas.edu/calendar/2024/02/22/76807/
CLASS:PUBLIC
STATUS:CONFIRMED

END:VEVENT
END:VCALENDAR