BEGIN:VCALENDAR
VERSION:2.0
PRODID:-//UNIVERSITY OF TEXAS SCHOOL OF LAW//NONSGML Events Calendar v1.0//EN
X-WR-TIMEZONE:America/Chicago
BEGIN:VTIMEZONE
TZID:US/Central
X-LIC-LOCATION:America/Chicago
BEGIN:DAYLIGHT
TZOFFSETFROM:-0600
TZOFFSETTO:-0500
TZNAME:CDT
DTSTART:19700308T020000
RRULE:FREQ=YEARLY;BYMONTH=3;BYDAY=2SU
END:DAYLIGHT
BEGIN:STANDARD
TZOFFSETFROM:-0500
TZOFFSETTO:-0600
TZNAME:CST
DTSTART:19701101T020000
RRULE:FREQ=YEARLY;BYMONTH=11;BYDAY=1SU
END:STANDARD
END:VTIMEZONE
BEGIN:VEVENT
DTSTART;TZID=US/Central:20240223T131500
DTEND;VALUE=DATE-TIME;TZID=US/Central:20240224T123000

DTSTAMP:20260419T150100Z
CREATED:20240129T221300Z
LAST-MODIFIED:20240221T201200Z
UID:20240223T131500-76754@law.utexas.edu
SUMMARY:Crime and Violence
DESCRIPTION:<p>Moderator and Panelist: Maria Ponomarenko</p>
  <p>Panelists: Jamein Cunningham, Michael Sierra-Arévalo, Art Acevedo, Trudy Strassburger</p>
  <p>Barry Friedman, 2024 Distinguished Visiting Professor, serves as the founding director of the Policing Project at NYU Law, which he co-founded with Texas Law Assistant Prof. Maria Ponomarenko. </p>\n\nIf you need an accommodation to participate in this event, please contact the event sponsor or the Texas Law Special Events Office at specialevents@law.utexas.edu no later than seven business days prior to the event.
X-ALT-DESC;FMTTYPE=text/html:<p>Moderator and Panelist: Maria Ponomarenko</p>
  <p>Panelists: Jamein Cunningham, Michael Sierra-Arévalo, Art Acevedo, Trudy Strassburger</p>
  <p>Barry Friedman, 2024 Distinguished Visiting Professor, serves as the founding director of the Policing Project at NYU Law, which he co-founded with Texas Law Assistant Prof. Maria Ponomarenko. </p><p>If you need an accommodation to participate in this event, please contact the event
                                          event sponsor or the Texas Law Special Events Office at <a href="mailto:specialevents@law.utexas.edu">specialevents@law.utexas.edu</a> no later than seven business days prior to the event.</p>
CATEGORIES:Panel Discussion / Speaker Series
LOCATION:TNH 2.111 - Sheffield-Massey Room
URL:http://law.utexas.edu/calendar/2024/02/23/76754/
CLASS:PUBLIC
STATUS:CONFIRMED

END:VEVENT
END:VCALENDAR