BEGIN:VCALENDAR
VERSION:2.0
PRODID:-//UNIVERSITY OF TEXAS SCHOOL OF LAW//NONSGML Events Calendar v1.0//EN
X-WR-TIMEZONE:America/Chicago
BEGIN:VTIMEZONE
TZID:US/Central
X-LIC-LOCATION:America/Chicago
BEGIN:DAYLIGHT
TZOFFSETFROM:-0600
TZOFFSETTO:-0500
TZNAME:CDT
DTSTART:19700308T020000
RRULE:FREQ=YEARLY;BYMONTH=3;BYDAY=2SU
END:DAYLIGHT
BEGIN:STANDARD
TZOFFSETFROM:-0500
TZOFFSETTO:-0600
TZNAME:CST
DTSTART:19701101T020000
RRULE:FREQ=YEARLY;BYMONTH=11;BYDAY=1SU
END:STANDARD
END:VTIMEZONE
BEGIN:VEVENT
DTSTART;TZID=US/Central:20240229T120000
DTEND;VALUE=DATE-TIME;TZID=US/Central:20240229T131500

DTSTAMP:20260419T155300Z
CREATED:20240223T151900Z
LAST-MODIFIED:20240223T151900Z
UID:20240229T120000-77050@law.utexas.edu
SUMMARY:EmPOWERed for Public Interest Group
DESCRIPTION:<p>This event is part of the Justice Center initiative designed to support students whose lived experiences intersect with the legal systems they seek to challenge in their careers. For example: students who have themselves or had family members become entangled in the criminal legal system who are interested in public defense work; immigrant students, or students who are the children or family members of immigrants seeking to challenge the immigration system; low-income students seeking to challenge laws and policy that further marginalize poor people such as predatory lending, cash bail, etc.</p>
  <p>EPI gatherings serve as a space for dialogue, mentorship, and resource-sharing tailored to the particular needs and strengths of students whose public interest work as attorneys may be directly tied to their lived experiences and/or those of their loved ones. This lunch will be a unique opportunity for students to meet with Texas Law faculty over lunch to discuss navigating law school and public interest legal careers.
  </p>\n\nIf you need an accommodation to participate in this event, please contact the event sponsor or the Texas Law Special Events Office at specialevents@law.utexas.edu no later than seven business days prior to the event.
X-ALT-DESC;FMTTYPE=text/html:<p>This event is part of the Justice Center initiative designed to support students whose lived experiences intersect with the legal systems they seek to challenge in their careers. For example: students who have themselves or had family members become entangled in the criminal legal system who are interested in public defense work; immigrant students, or students who are the children or family members of immigrants seeking to challenge the immigration system; low-income students seeking to challenge laws and policy that further marginalize poor people such as predatory lending, cash bail, etc.</p>
  <p>EPI gatherings serve as a space for dialogue, mentorship, and resource-sharing tailored to the particular needs and strengths of students whose public interest work as attorneys may be directly tied to their lived experiences and/or those of their loved ones. This lunch will be a unique opportunity for students to meet with Texas Law faculty over lunch to discuss navigating law school and public interest legal careers.
  </p><p>If you need an accommodation to participate in this event, please contact the event
                                          event sponsor or the Texas Law Special Events Office at <a href="mailto:specialevents@law.utexas.edu">specialevents@law.utexas.edu</a> no later than seven business days prior to the event.</p>
CATEGORIES:Lunch
LOCATION:CCJ 2.300 - Jamail Pavilion
URL:http://law.utexas.edu/calendar/2024/02/29/77050/
CLASS:PUBLIC
STATUS:CONFIRMED

END:VEVENT
END:VCALENDAR