BEGIN:VCALENDAR
VERSION:2.0
PRODID:-//UNIVERSITY OF TEXAS SCHOOL OF LAW//NONSGML Events Calendar v1.0//EN
X-WR-TIMEZONE:America/Chicago
BEGIN:VTIMEZONE
TZID:US/Central
X-LIC-LOCATION:America/Chicago
BEGIN:DAYLIGHT
TZOFFSETFROM:-0600
TZOFFSETTO:-0500
TZNAME:CDT
DTSTART:19700308T020000
RRULE:FREQ=YEARLY;BYMONTH=3;BYDAY=2SU
END:DAYLIGHT
BEGIN:STANDARD
TZOFFSETFROM:-0500
TZOFFSETTO:-0600
TZNAME:CST
DTSTART:19701101T020000
RRULE:FREQ=YEARLY;BYMONTH=11;BYDAY=1SU
END:STANDARD
END:VTIMEZONE
BEGIN:VEVENT
DTSTART;TZID=US/Central:20240319T173000
DTEND;VALUE=DATE-TIME;TZID=US/Central:20240319T200000

DTSTAMP:20260419T150300Z
CREATED:20240220T160700Z
LAST-MODIFIED:20240220T160700Z
UID:20240319T173000-77007@law.utexas.edu
SUMMARY:MPRE Practice Exam
DESCRIPTION:<p>Get ready for the MPRE Exam by taking a practice exam! Pizza will be served at 5:30 PM and the exam will begin at 6:00 PM.</p>
  <p>Register Here: <a href="http://links.utexas.edu/bllvjhu">http://links.utexas.edu/bllvjhu</a> </p>\n\nIf you need an accommodation to participate in this event, please contact the event sponsor or the Texas Law Special Events Office at specialevents@law.utexas.edu no later than seven business days prior to the event.
X-ALT-DESC;FMTTYPE=text/html:<p>Get ready for the MPRE Exam by taking a practice exam! Pizza will be served at 5:30 PM and the exam will begin at 6:00 PM.</p>
  <p>Register Here: <a href="http://links.utexas.edu/bllvjhu">http://links.utexas.edu/bllvjhu</a> </p><p>If you need an accommodation to participate in this event, please contact the event
                                          event sponsor or the Texas Law Special Events Office at <a href="mailto:specialevents@law.utexas.edu">specialevents@law.utexas.edu</a> no later than seven business days prior to the event.</p>
CATEGORIES:Other
LOCATION:TNH 2.137 - Gayle Classroom
URL:http://law.utexas.edu/calendar/2024/03/19/77007/
CLASS:PUBLIC
STATUS:CONFIRMED

END:VEVENT
END:VCALENDAR